BEGIN:VCALENDAR
VERSION:2.0
PRODID:-//ChamberMaster//Event Calendar 2.0//EN
METHOD:PUBLISH
X-PUBLISHED-TTL:P3D
REFRESH-INTERVAL:P3D
CALSCALE:GREGORIAN
BEGIN:VEVENT
DTSTART:20181111T160000Z
DTEND:20181111T210000Z
X-MICROSOFT-CDO-ALLDAYEVENT:FALSE
SUMMARY:1st Annual Christmas Bash
DESCRIPTION:Welcome to our 1st Annual Christmas Bash!\n\n\n\nCome and join us in celebrating Christmas and shop with amazing local crafters and direct sales consultants. \n\n\n\nThis will be a two day event starting\, November 10th & 11th from 10am to 3pm. We will also be joined by local photographer Erin Cusick with Erin Cusick Photography. She will have her camera ready to take some amazing Christmas photographs at an extremely afforable price! \n\n\n\nFor a complete listing of our vendors\, click here!
X-ALT-DESC;FMTTYPE=text/html:Welcome to our 1st Annual Christmas Bash!<br />\n<br />\nCome and join us in celebrating Christmas and shop with amazing local crafters and direct sales consultants.&nbsp\;<br />\n<br />\nThis will be a two day event starting\, November 10th &amp\; 11th from 10am to 3pm. We will also be joined by local photographer Erin Cusick with Erin Cusick Photography. She will have her camera ready to take some amazing Christmas photographs at an extremely afforable price!&nbsp\;<br />\n<br />\nFor a complete listing of our vendors\, <a href="https://www.facebook.com/events/802171183323871/">click here</a>!&nbsp\;<br />\n&nbsp\;
LOCATION:Two Rivers Community House 1702 W. Park St.\, Two Rivers
UID:e.361.13613
SEQUENCE:3
DTSTAMP:20260426T032412Z
URL:https://business.chambermanitowoccounty.org/events/details/1st-annual-christmas-bash-13613
END:VEVENT

END:VCALENDAR
