BEGIN:VCALENDAR
VERSION:2.0
PRODID:-//ChamberMaster//Event Calendar 2.0//EN
METHOD:PUBLISH
X-PUBLISHED-TTL:P3D
REFRESH-INTERVAL:P3D
CALSCALE:GREGORIAN
BEGIN:VEVENT
DTSTART:20220819T220000Z
DTEND:20220821T220000Z
X-MICROSOFT-CDO-ALLDAYEVENT:FALSE
SUMMARY:75th Annual Newton Volutneer Firefighters picnic
DESCRIPTION:FREE ADMISSION TO ALL EVENTS ALL WEEKEND FRIDAY: FISH PLATES STARTING AT 5:00 P.M. NEW & P.I. Modified Truck & Tractor Pulls Registration 3-6pm - pull 7:00 p.m. Pullers Inc. Hot Farm\, Pro Farm & Super Farm N.E.W 12\,500 Hobby Farm\, 9\,500 Hot Farm 640 Pro Farm Comp diesel 4x4 Trucks Pro Street Semi's Music By: Bella Cain 8:30 p.m. SATURDAY: LARGE CONSIGNMENT AUCTION Selling in two rings small items & lawn equipment Starting at 10a.m. Farm machinery starting at 12p.m. Millernco.com Modified Truck & Tractor Pulls Registration 3-6pm pull 7:00 p.m. Pullers Inc. Hot\, Pro\, Super farm\, 13\,500 (10mph) & Mixed Tractors Super Stock Trucks Diesel 2.5/2.6 4x4 Trucks Street Stock 4x4 Trucks( must be driven to pull) Local Semi's Music By\; Road Trip 8:30 p.m. SUNDAY: LARGE PARADE 11:30 a.m. Rain or Shine Stock Farm Tractor Pull Weigh in 9-11:30 Pull 1:30 p.m. Farm Stock Tractors\, N.E.W. 13\,500 Music By: Stone Sober 1:30 pm 70 Team Volleyball Tournament (Registration opens July 3rd on Facebook "Newton Volleyball 2022") Kids Games ALL WEEKEND For more info call 920-323-0987 Jay or Like us on Facebook: Newton Volunteer Fire Dept.
X-ALT-DESC;FMTTYPE=text/html:FREE ADMISSION TO ALL EVENTS ALL WEEKEND FRIDAY: FISH PLATES STARTING AT 5:00 P.M. NEW &amp\; P.I. Modified Truck &amp\; Tractor Pulls Registration 3-6pm - pull 7:00 p.m. Pullers Inc. Hot Farm\, Pro Farm &amp\; Super Farm N.E.W 12\,500 Hobby Farm\, 9\,500 Hot Farm 640 Pro Farm Comp diesel 4x4 Trucks Pro Street Semi&rsquo\;s Music By: Bella Cain 8:30 p.m. SATURDAY: LARGE CONSIGNMENT AUCTION Selling in two rings small items &amp\; lawn equipment Starting at 10a.m. Farm machinery starting at 12p.m. Millernco.com Modified Truck &amp\; Tractor Pulls Registration 3-6pm pull 7:00 p.m. Pullers Inc. Hot\, Pro\, Super farm\, 13\,500 (10mph) &amp\; Mixed Tractors Super Stock Trucks Diesel 2.5/2.6 4x4 Trucks Street Stock 4x4 Trucks( must be driven to pull) Local Semi&rsquo\;s Music By\; Road Trip 8:30 p.m. SUNDAY: LARGE PARADE 11:30 a.m. Rain or Shine Stock Farm Tractor Pull Weigh in 9-11:30 Pull 1:30 p.m. Farm Stock Tractors\, N.E.W. 13\,500 Music By: Stone Sober 1:30 pm 70 Team Volleyball Tournament (Registration opens July 3rd on Facebook &ldquo\;Newton Volleyball 2022&rdquo\;) Kids Games ALL WEEKEND For more info call 920-323-0987 Jay or Like us on Facebook: Newton Volunteer Fire Dept.
LOCATION:6103 Newton Rd Newton Wi 53063
UID:e.361.17930
SEQUENCE:3
DTSTAMP:20260420T065116Z
URL:https://business.chambermanitowoccounty.org/events/details/75th-annual-newton-volutneer-firefighters-picnic-17930
END:VEVENT

END:VCALENDAR
