BEGIN:VCALENDAR
VERSION:2.0
PRODID:-//ChamberMaster//Event Calendar 2.0//EN
METHOD:PUBLISH
X-PUBLISHED-TTL:P3D
REFRESH-INTERVAL:P3D
CALSCALE:GREGORIAN
BEGIN:VEVENT
DTSTART:20221210T220000Z
DTEND:20221211T010000Z
X-MICROSOFT-CDO-ALLDAYEVENT:FALSE
SUMMARY:A Crossfire Christmas
DESCRIPTION:Join us for our first "A Crossfire Christmas" open house style event on December 3rd from 4:00pm to 7:00pm! Don't let the cold steer you away... we'll have a hot chocolate bar\, assorted cookies\, and a bonfire! Please bring your family\, friends\, coworkers\, and loved ones to the ranch to kick start the holiday season and learn more about Crossfire Ranch! If you are planning on attending\, please RSVP for a cookie count: https://www.flipcause.com/secure/cause_pdetails/MTcwNTA5
X-ALT-DESC;FMTTYPE=text/html:Join us for our first &quot\;A Crossfire Christmas&quot\; open house style event on December 3rd from 4:00pm to 7:00pm! Don&#39\;t let the cold steer you away... we&#39\;ll have a hot chocolate bar\, assorted cookies\, and a bonfire! Please bring your family\, friends\, coworkers\, and loved ones to the ranch to kick start the holiday season and learn more about Crossfire Ranch! If you are planning on attending\, please RSVP for a cookie count: https://www.flipcause.com/secure/cause_pdetails/MTcwNTA5
LOCATION:2209 Riverview Ln\, Reedsville\, WI\, 54230
UID:e.361.18127
SEQUENCE:3
DTSTAMP:20260420T021212Z
URL:https://business.chambermanitowoccounty.org/events/details/a-crossfire-christmas-12-10-2022-18127
END:VEVENT

END:VCALENDAR
