BEGIN:VCALENDAR
VERSION:2.0
PRODID:-//ChamberMaster//Event Calendar 2.0//EN
METHOD:PUBLISH
X-PUBLISHED-TTL:P3D
REFRESH-INTERVAL:P3D
CALSCALE:GREGORIAN
BEGIN:VEVENT
DTSTART:20190505T003000Z
DTEND:20190505T023000Z
X-MICROSOFT-CDO-ALLDAYEVENT:FALSE
SUMMARY:A Journey Through Eastern Europe LWE Concert
DESCRIPTION:The winds from the East will blow in music from Greece\, Czechoslovakia\, Albania\, and Romania. Join us for this beautiful journey! Works will include "Aegean Festival Overture" by Andreas Makris\, "Romanian Dances" by Bela Bartok\, and "Armenian Dances\, Part 2" by Alfred Reed.
X-ALT-DESC;FMTTYPE=text/html:The winds from the East will blow in music from Greece\, Czechoslovakia\, Albania\, and Romania. Join us for this beautiful journey! Works will include &quot\;Aegean Festival Overture&quot\; by Andreas Makris\, &quot\;Romanian Dances&quot\; by Bela Bartok\, and &quot\;Armenian Dances\, Part 2&quot\; by Alfred Reed.
LOCATION:Capitol Civic Centre
UID:e.361.13793
SEQUENCE:3
DTSTAMP:20260425T203309Z
URL:https://business.chambermanitowoccounty.org/events/details/a-journey-through-eastern-europe-lwe-concert-13793
END:VEVENT

END:VCALENDAR
