BEGIN:VCALENDAR
VERSION:2.0
PRODID:-//ChamberMaster//Event Calendar 2.0//EN
METHOD:PUBLISH
X-PUBLISHED-TTL:P3D
REFRESH-INTERVAL:P3D
CALSCALE:GREGORIAN
BEGIN:VEVENT
DTSTART:20221212T013000Z
DTEND:20221212T033000Z
X-MICROSOFT-CDO-ALLDAYEVENT:FALSE
SUMMARY:A Motown Christmas
DESCRIPTION:A Motown Christmas features a world-class vocal group\, assembled from past and present members of Motown's most legendary groups...The Temptations\, The Miracles and The Contours. A Motown Christmas is a powerful family-oriented show combining Motown's greatest hits with everyone's favorite holiday classics. This show features those famous Motown trademarks...dazzling choreography and unforgettable harmonies all performed in that memorable\, soulful Motown style.?This is an evening not to be missed\, bring the family\, dance\, sing and enjoy this special\, holiday spectacular.
X-ALT-DESC;FMTTYPE=text/html:A Motown Christmas features a world-class vocal group\, assembled from past and present members of Motown&#39\;s most legendary groups...The Temptations\, The Miracles and The Contours. A Motown Christmas is a powerful family-oriented show combining Motown&#39\;s greatest hits with everyone&#39\;s favorite holiday classics. This show features those famous Motown trademarks...dazzling choreography and unforgettable harmonies all performed in that memorable\, soulful Motown style.?This is an evening not to be missed\, bring the family\, dance\, sing and enjoy this special\, holiday spectacular.
LOCATION:Weill Center
UID:e.361.18032
SEQUENCE:3
DTSTAMP:20260420T004017Z
URL:https://business.chambermanitowoccounty.org/events/details/a-motown-christmas-18032
END:VEVENT

END:VCALENDAR
