BEGIN:VCALENDAR
VERSION:2.0
PRODID:-//ChamberMaster//Event Calendar 2.0//EN
METHOD:PUBLISH
X-PUBLISHED-TTL:P3D
REFRESH-INTERVAL:P3D
CALSCALE:GREGORIAN
BEGIN:VEVENT
DTSTART:20190428T160000Z
DTEND:20190428T180000Z
X-MICROSOFT-CDO-ALLDAYEVENT:FALSE
SUMMARY:Abigail's Kitten Shower
DESCRIPTION:Abigail had a deep and endless love for shelter cats\, and hosting the Kitten Shower was one of her favorite things to do while employed at Lakeshore Humane Society. In honor of her tireless work to enrich the lives of shelter cats\, we have re-named the event in her memory. Spring is kitten season\, and in anticipation of the inevitable litters of kittens that enter the shelter\, we will need supplies! Please join us for a baby shower for the kittens and their Mommas on Sunday April 28th from 11AM-1PM. There will be games\, door prizes\, and desserts so if you have a sweet tooth and a soft spot for kitties...come on down and join us for this family friendly event! Information will be available on being a foster parent/family for abandoned baby kittens if you are interested. Gift items for the kittens include: * KMR kitten formula (high priority item) *Kitten Chow dry kitten food *PATE' Wet canned cat/kitten food *Kitty litter *Kitten toys *Soft baby blankets * Kitten feeding bottles *Miracle nipples *Pedialite *Beds and Blankets *Stuffed Animals *Small Litter Pans and Scoops *Small Bowls
X-ALT-DESC;FMTTYPE=text/html:Abigail had a deep and endless love for shelter cats\, and hosting the Kitten Shower was one of her favorite things to do while employed at Lakeshore Humane Society. In honor of her tireless work to enrich the lives of shelter cats\, we have re-named the event in her memory. Spring is kitten season\, and in anticipation of the inevitable litters of kittens that enter the shelter\, we will need supplies! Please join us for a baby shower for the kittens and their Mommas on Sunday April 28th from 11AM-1PM. There will be games\, door prizes\, and desserts so if you have a sweet tooth and a soft spot for kitties...come on down and join us for this family friendly event! Information will be available on being a foster parent/family for abandoned baby kittens if you are interested. Gift items for the kittens include: * KMR kitten formula (high priority item) *Kitten Chow dry kitten food *PATE&#39\; Wet canned cat/kitten food *Kitty litter *Kitten toys *Soft baby blankets * Kitten feeding bottles *Miracle nipples *Pedialite *Beds and Blankets *Stuffed Animals *Small Litter Pans and Scoops *Small Bowls
LOCATION:Lakeshore Humane Society 1551 N. 8th St Manitowoc WI 54220
UID:e.361.14097
SEQUENCE:3
DTSTAMP:20260425T214714Z
URL:https://business.chambermanitowoccounty.org/events/details/abigail-s-kitten-shower-14097
END:VEVENT

END:VCALENDAR
