BEGIN:VCALENDAR
VERSION:2.0
PRODID:-//ChamberMaster//Event Calendar 2.0//EN
METHOD:PUBLISH
X-PUBLISHED-TTL:P3D
REFRESH-INTERVAL:P3D
CALSCALE:GREGORIAN
BEGIN:VEVENT
DTSTART:20190720T160000Z
DTEND:20190721T020000Z
X-MICROSOFT-CDO-ALLDAYEVENT:FALSE
SUMMARY:Acoustic Fest
DESCRIPTION:Free acoustic music festival. Artists\, crafters and food and beverage vendors. Family friendly.
X-ALT-DESC;FMTTYPE=text/html:Free acoustic music festival. Artists\, crafters and food and beverage vendors. Family friendly.
LOCATION:Washington Park\, Washington St.\, Manitowoc\, WI
UID:e.361.14108
SEQUENCE:3
DTSTAMP:20260425T181423Z
URL:https://business.chambermanitowoccounty.org/events/details/acoustic-fest-07-20-2019-14108
END:VEVENT

END:VCALENDAR
