BEGIN:VCALENDAR
VERSION:2.0
PRODID:-//ChamberMaster//Event Calendar 2.0//EN
METHOD:PUBLISH
X-PUBLISHED-TTL:P3D
REFRESH-INTERVAL:P3D
CALSCALE:GREGORIAN
BEGIN:VEVENT
DTSTART:20190827T230000Z
DTEND:20190828T000000Z
X-MICROSOFT-CDO-ALLDAYEVENT:FALSE
SUMMARY:Advance Care Planning - Hamilton Care Center
DESCRIPTION:Advance Care Planning\n\nAdvance Care Planning used to be as simple as a few paragraphs in your will\, but not anymore. There are many things our families would need to know if we became unable to communicate with them.
X-ALT-DESC;FMTTYPE=text/html:Advance Care Planning<br />\nAdvance Care Planning used to be as simple as a few paragraphs in your will\, but not anymore. There are many things our families would need to know if we became unable to communicate with them.&nbsp\;
LOCATION:Hamilton Care Center North Dining Room
UID:e.361.14112
SEQUENCE:3
DTSTAMP:20260425T170255Z
URL:https://business.chambermanitowoccounty.org/events/details/advance-care-planning-hamilton-care-center-14112
END:VEVENT

END:VCALENDAR
