BEGIN:VCALENDAR
VERSION:2.0
PRODID:-//ChamberMaster//Event Calendar 2.0//EN
METHOD:PUBLISH
X-PUBLISHED-TTL:P3D
REFRESH-INTERVAL:P3D
CALSCALE:GREGORIAN
BEGIN:VEVENT
DTSTART:20230426T133000Z
DTEND:20230426T200000Z
X-MICROSOFT-CDO-ALLDAYEVENT:FALSE
SUMMARY:Advanced Leadership - Emotional Intelligence Essentials
DESCRIPTION:The Chamber of Manitowoc County in partnership with University of Wisconsin-Green Bay\, Manitowoc Campus\, Lakeland University and Lakeshore Technical college are pleased to offer ADVANCED LEADERSHIP: Educate. Empower. Elevate.  This exciting new program has been developed for the mid to senior-level managers\, nonprofit administrators\, and entrepreneurs seeking advanced leadership and communications skills to move their careers and organizations forward.  Each session will be taught by instructors from the partner colleges.\n\n\n\nEMOTIONAL INTELLIGENCE ESSENTIALS\n\nPresented by:  Theresa Lindstrom\, Lakeshore Technical College\nEstablishing and sustaining trusting relationships by accurately perceiving and interpreting own and other's emotions and behavior\; leveraging insights to effectively manage own responses so that one's behavior matches one's values and delivers intended results.\n\n \n\nKey Focus Areas:\n\n\n	Builds self-awareness.\n	Maintains self-control.\n	Maintains or enhances self-esteem (to build social bonds).\n	Listens and responds with empathy.\n	Asks for help and encourages involvement (to enhance collaboration).\n	Shares thoughts\, feelings\, and rationale (to build trust).\n	Provides support without removing responsibility (to build-ownership).\n	Facilitates discussions.
X-ALT-DESC;FMTTYPE=text/html:<span style="color: rgb(0\, 0\, 0)\;">The Chamber of Manitowoc County in partnership with University of Wisconsin-Green Bay\, Manitowoc Campus\, Lakeland University and Lakeshore Technical college are pleased to offer ADVANCED LEADERSHIP: Educate. Empower. Elevate.&nbsp\; This exciting new program has been developed for the mid to senior-level managers\, nonprofit administrators\, and entrepreneurs seeking advanced leadership and communications skills to move their careers and organizations forward.&nbsp\; Each session will be taught by instructors from the partner colleges.</span><br />\n<br />\n<font color="#212227"><b>EMOTIONAL INTELLIGENCE ESSENTIALS</b><br />\n<em>Presented by:&nbsp\; Theresa Lindstrom\, Lakeshore Technical College</em></font>\n<p class="_04xlpA direction-ltr align-start para-style-body" line-height:="" style="color: rgb(33\, 34\, 39)\; font-family: " yacgetiwks8=""><span style="font-size:12px\;"><span style="font-family:arial\;"><span class="JsGRdQ">Establishing and sustaining trusting relationships by accurately perceiving and interpreting own and other&rsquo\;s emotions and behavior\; leveraging insights to effectively manage own responses so that one&rsquo\;s behavior matches one&rsquo\;s values and delivers intended results.</span></span></span></p>\n\n<p class="_04xlpA direction-ltr align-start para-style-body" line-height:="" style="color: rgb(33\, 34\, 39)\; font-family: " yacgetiwks8="">&nbsp\;</p>\n\n<p class="_04xlpA direction-ltr align-start para-style-body" line-height:="" style="color: rgb(33\, 34\, 39)\; font-family: " yacgetiwks8=""><span style="font-size:12px\;"><span style="font-family:arial\;"><span class="JsGRdQ">Key Focus Areas:</span></span></span></p>\n\n<ul>\n	<li><span style="font-size:12px\;"><span style="font-family:arial\;"><span class="JsGRdQ" style="color: rgb(33\, 34\, 39)\;">Builds self-awareness.</span></span></span></li>\n	<li><span style="font-size:12px\;"><span style="font-family:arial\;"><span class="JsGRdQ" style="color: rgb(33\, 34\, 39)\;">Maintains self-control.</span></span></span></li>\n	<li><span style="font-size:12px\;"><span style="font-family:arial\;"><span class="JsGRdQ" style="color: rgb(33\, 34\, 39)\;">Maintains or enhances self-esteem (to build social bonds).</span></span></span></li>\n	<li><span style="font-size:12px\;"><span style="font-family:arial\;"><span class="JsGRdQ" style="color: rgb(33\, 34\, 39)\;">Listens and responds with empathy.</span></span></span></li>\n	<li><span style="font-size:12px\;"><span style="font-family:arial\;"><span class="JsGRdQ" style="color: rgb(33\, 34\, 39)\;">Asks for help and encourages involvement (to enhance collaboration).</span></span></span></li>\n	<li><span style="font-size:12px\;"><span style="font-family:arial\;"><span class="JsGRdQ" style="color: rgb(33\, 34\, 39)\;">Shares thoughts\, feelings\, and rationale (to build trust).</span></span></span></li>\n	<li><span style="font-size:12px\;"><span style="font-family:arial\;"><span class="JsGRdQ" style="color: rgb(33\, 34\, 39)\;">Provides support without removing responsibility (to build-ownership).</span></span></span></li>\n	<li><span style="font-size:12px\;"><span style="font-family:arial\;"><span class="JsGRdQ" style="color: rgb(33\, 34\, 39)\;">Facilitates discussions.</span></span></span></li>\n</ul>\n
LOCATION:LTC Downtown Manitowoc Campus 600 York St. Manitowoc
UID:e.361.18335
SEQUENCE:3
DTSTAMP:20260419T190300Z
URL:https://business.chambermanitowoccounty.org/events/details/advanced-leadership-emotional-intelligence-essentials-18335
END:VEVENT

END:VCALENDAR
