BEGIN:VCALENDAR
VERSION:2.0
PRODID:-//ChamberMaster//Event Calendar 2.0//EN
METHOD:PUBLISH
X-PUBLISHED-TTL:P3D
REFRESH-INTERVAL:P3D
CALSCALE:GREGORIAN
BEGIN:VEVENT
DTSTART:20230628T133000Z
DTEND:20230628T200000Z
X-MICROSOFT-CDO-ALLDAYEVENT:FALSE
SUMMARY:Advanced Leadership - Work Life Balance and How Can I Achieve It?
DESCRIPTION:The Chamber of Manitowoc County in partnership with University of Wisconsin-Green Bay\, Manitowoc Campus\, Lakeland University and Lakeshore Technical college are pleased to offer ADVANCED LEADERSHIP: Educate. Empower. Elevate.  This exciting new program has been developed for the mid to senior-level managers\, nonprofit administrators\, and entrepreneurs seeking advanced leadership and communications skills to move their careers and organizations forward.  Each session will be taught by instructors from the partner colleges.\n\n\n\nWORK LIFE BALANCE AND HOW CAN I ACHEIVE IT?\n\nPresented by: Veronica Lampe\, Ph.D.\, Lakeland University\nAsk yourself\, "If I could only focus on one thing in my life\, what would it be ...?" Work-life balance is a concept that encourages an ideal situation in which an employee can stabilize their time and energy between the professional and personal aspects of their life. So how do you shine in your career while making time for your loved ones? Work-life balance teaches us that we all have the right to be ambitious in pursuing our career goals\, but not at the cost of losing important emotional and personal ties with people with whom we are going to share relationships with throughout our lives. Improper balance in your work commitments and personal responsibilities\, more often than not\, cause a tremendous stress between the different sides of a person's life. The biggest problem is that most people think they have no choice\, but that's not really true. \n\nLearning Outcomes \n\n\n	Define work-life balance.\n	Develop work-life balance goals and specific actions.\n	Identify your stressors and commitment to self-care.\n	Understand how to maintain work-life balance through effective daily and weekly planning.
X-ALT-DESC;FMTTYPE=text/html:<span style="color: rgb(0\, 0\, 0)\;">The Chamber of Manitowoc County in partnership with University of Wisconsin-Green Bay\, Manitowoc Campus\, Lakeland University and Lakeshore Technical college are pleased to offer ADVANCED LEADERSHIP: Educate. Empower. Elevate.&nbsp\; This exciting new program has been developed for the mid to senior-level managers\, nonprofit administrators\, and entrepreneurs seeking advanced leadership and communications skills to move their careers and organizations forward.&nbsp\; Each session will be taught by instructors from the partner colleges.</span><br />\n<br />\n<strong>WORK LIFE BALANCE AND HOW CAN I ACHEIVE IT?</strong><br />\n<em>Presented by: Veronica Lampe\, Ph.D.\, Lakeland University</em>\n<p class="_04xlpA direction-ltr align-start para-style-body" line-height:="" style="color: rgb(33\, 34\, 39)\; font-family: " yacgetiwks8=""><span style="font-size:12px\;"><span style="font-family:arial\;"><span class="JsGRdQ">Ask yourself\, &quot\;If I could only focus on one thing in my life\, what would it be ...?&rdquo\; Work-life balance is a concept that encourages an ideal situation in which an employee can stabilize their time and energy between the professional and personal aspects of their life. So how do you shine in your career while making time for your loved ones? Work-life balance teaches us that we all have the right to be ambitious in pursuing our career goals\, but not at the cost of losing important emotional and personal ties with people with whom we are going to share relationships with throughout our lives. Improper balance in your work commitments and personal responsibilities\, more often than not\, cause a tremendous stress between the different sides of a person&rsquo\;s life. The biggest problem is that most people think they have no choice\, but that&rsquo\;s not really true.</span><span class="JsGRdQ white-space-prewrap"> </span></span></span></p>\n\n<p class="_04xlpA direction-ltr align-start para-style-body" line-height:="" style="color: rgb(33\, 34\, 39)\; font-family: " yacgetiwks8=""><span style="font-size:12px\;"><span style="font-family:arial\;"><span class="JsGRdQ">Learning Outcomes</span><span class="JsGRdQ white-space-prewrap"> </span></span></span></p>\n\n<ul>\n	<li><span style="font-size:12px\;"><span style="font-family:arial\;"><span class="JsGRdQ" style="color: rgb(33\, 34\, 39)\;">Define work-life balance.</span></span></span></li>\n	<li><span style="font-size:12px\;"><span style="font-family:arial\;"><span class="JsGRdQ" style="color: rgb(33\, 34\, 39)\;">Develop work-life balance goals and specific actions.</span></span></span></li>\n	<li><span style="font-size:12px\;"><span style="font-family:arial\;"><span class="JsGRdQ" style="color: rgb(33\, 34\, 39)\;">Identify your stressors and commitment to self-care.</span></span></span></li>\n	<li><span style="font-size:12px\;"><span style="font-family:arial\;"><span class="JsGRdQ" style="color: rgb(33\, 34\, 39)\;">Understand how to maintain work-life balance through effective daily and weekly planning.</span></span></span></li>\n</ul>\n
LOCATION:LTC Downtown Manitowoc Campus 600 York St. Manitowoc
UID:e.361.18337
SEQUENCE:3
DTSTAMP:20260419T160529Z
URL:https://business.chambermanitowoccounty.org/events/details/advanced-leadership-work-life-balance-and-how-can-i-achieve-it-18337
END:VEVENT

END:VCALENDAR
