BEGIN:VCALENDAR
VERSION:2.0
PRODID:-//ChamberMaster//Event Calendar 2.0//EN
METHOD:PUBLISH
X-PUBLISHED-TTL:P3D
REFRESH-INTERVAL:P3D
CALSCALE:GREGORIAN
BEGIN:VEVENT
DTSTART:20210105T160000Z
DTEND:20210105T163000Z
X-MICROSOFT-CDO-ALLDAYEVENT:FALSE
SUMMARY:Agriculture\, Food and Natural Resources Career Exploration
DESCRIPTION:Careers in: \n\nAgriculture\, Food and Natural Resources\, Agribusiness Systems\, Animal Systems\, Environmental Service Systems\, Food Products and Processing Systems\, Natural Resources Systems\, Plant Systems Power\, Structural and Technical Systems
X-ALT-DESC;FMTTYPE=text/html:<div>&nbsp\;</div>\nCareers in:&nbsp\;\n\n<div>Agriculture\, Food and Natural Resources\, Agribusiness Systems\, Animal Systems\, Environmental Service Systems\, Food Products and Processing Systems\, Natural Resources Systems\, Plant Systems Power\, Structural and Technical Systems</div>\n
LOCATION:
UID:e.361.15795
SEQUENCE:3
DTSTAMP:20260424T200930Z
URL:https://business.chambermanitowoccounty.org/events/details/agriculture-food-and-natural-resources-career-exploration-15795
END:VEVENT

END:VCALENDAR
