BEGIN:VCALENDAR
VERSION:2.0
PRODID:-//ChamberMaster//Event Calendar 2.0//EN
METHOD:PUBLISH
X-PUBLISHED-TTL:P3D
REFRESH-INTERVAL:P3D
CALSCALE:GREGORIAN
BEGIN:VEVENT
DTSTART:20230720T190000Z
DTEND:20230720T200000Z
X-MICROSOFT-CDO-ALLDAYEVENT:FALSE
SUMMARY:Alzheimer's Caregiver Support Group
DESCRIPTION:The Alzheimer's Caregiver Support Group provides caregivers a safe and welcoming place to discuss the hardships and celebrate the victories of caring for someone with Alzheimer's.\n\n\n\nRegistration encouraged but not required. Please Call (920) 683-4180 for more information.
X-ALT-DESC;FMTTYPE=text/html:The Alzheimer&#39\;s Caregiver Support Group provides caregivers a safe and welcoming place to discuss the hardships and celebrate the victories of caring for someone with Alzheimer&#39\;s.<br />\n<br />\nRegistration encouraged but not required. Please Call (920) 683-4180 for more information.
LOCATION:ADRC of the Lakeshore 1701 Michigan Ave\, Manitowoc\, WI 54220 Lower Level Education Room
UID:e.361.13872
SEQUENCE:3
DTSTAMP:20260419T143530Z
URL:https://business.chambermanitowoccounty.org/events/details/alzheimer-s-caregiver-support-group-07-20-2023-13872
END:VEVENT

END:VCALENDAR
