BEGIN:VCALENDAR
VERSION:2.0
PRODID:-//ChamberMaster//Event Calendar 2.0//EN
METHOD:PUBLISH
X-PUBLISHED-TTL:P3D
REFRESH-INTERVAL:P3D
CALSCALE:GREGORIAN
BEGIN:VEVENT
DTSTART:20210602T170000Z
DTEND:20210602T180000Z
X-MICROSOFT-CDO-ALLDAYEVENT:FALSE
SUMMARY:Ambassador/Membership Growth Meeting
DESCRIPTION:Pizza Garden
X-ALT-DESC;FMTTYPE=text/html:Pizza Garden
LOCATION:
UID:e.361.16164
SEQUENCE:3
DTSTAMP:20260424T134128Z
URL:https://business.chambermanitowoccounty.org/events/details/ambassador-membership-growth-meeting-16164
END:VEVENT

END:VCALENDAR
