BEGIN:VCALENDAR
VERSION:2.0
PRODID:-//ChamberMaster//Event Calendar 2.0//EN
METHOD:PUBLISH
X-PUBLISHED-TTL:P3D
REFRESH-INTERVAL:P3D
CALSCALE:GREGORIAN
BEGIN:VEVENT
DTSTART:20220301T020000Z
DTEND:20220301T040000Z
X-MICROSOFT-CDO-ALLDAYEVENT:FALSE
SUMMARY:An Officer and A Gentleman
DESCRIPTION:An Officer and a Gentleman\, based on the Oscar-winning film starring Richard Gere and Debra Winger\, is a breathtaking production that celebrates triumph over adversity and includes one of the most iconic and romantic endings ever portrayed on screen. Featuring the Grammy Award winning\, #1 hit single 'Up Where We Belong'\, and a score based on the 1980's catalogue of music that gave voice to a generation\, the live stage production is a new adaptation by multiple Tony Awards nominee Dick Scanlan (Thoroughly Modern Millie\, Everyday Rapture)\, based on the original screenplay by Douglas Day Stewart. The musical is directed by Scanlan with choreography by Patricia Wilcox (Motown\, A Night with Janis Joplin). Zack Mayo's got smarts and a body built for US Navy pilot boot camp\, but he also has too much swagger  until he meets a drill sergeant who's determined to drill his arrogance out of him. Zack finds comfort in the arms of a local factory girl. But it isn't until tragedy befalls a fellow candidate that Zack learns the importance of love and friendship\, and finds the courage to be his best self and win the heart of the woman he loves.
X-ALT-DESC;FMTTYPE=text/html:An Officer and a Gentleman\, based on the Oscar-winning film starring Richard Gere and Debra Winger\, is a breathtaking production that celebrates triumph over adversity and includes one of the most iconic and romantic endings ever portrayed on screen. Featuring the Grammy Award winning\, #1 hit single &lsquo\;Up Where We Belong&rsquo\;\, and a score based on the 1980&rsquo\;s catalogue of music that gave voice to a generation\, the live stage production is a new adaptation by multiple Tony Awards nominee Dick Scanlan (Thoroughly Modern Millie\, Everyday Rapture)\, based on the original screenplay by Douglas Day Stewart. The musical is directed by Scanlan with choreography by Patricia Wilcox (Motown\, A Night with Janis Joplin). Zack Mayo&rsquo\;s got smarts and a body built for US Navy pilot boot camp\, but he also has too much swagger&hellip\; until he meets a drill sergeant who&rsquo\;s determined to drill his arrogance out of him. Zack finds comfort in the arms of a local factory girl. But it isn&rsquo\;t until tragedy befalls a fellow candidate that Zack learns the importance of love and friendship\, and finds the courage to be his best self and win the heart of the woman he loves.
LOCATION:Weill Center
UID:e.361.17168
SEQUENCE:3
DTSTAMP:20260422T171305Z
URL:https://business.chambermanitowoccounty.org/events/details/an-officer-and-a-gentleman-17168
END:VEVENT

END:VCALENDAR
