BEGIN:VCALENDAR
VERSION:2.0
PRODID:-//ChamberMaster//Event Calendar 2.0//EN
METHOD:PUBLISH
X-PUBLISHED-TTL:P3D
REFRESH-INTERVAL:P3D
CALSCALE:GREGORIAN
BEGIN:VEVENT
DTSTART:20190228T140000Z
DTEND:20190228T160000Z
X-MICROSOFT-CDO-ALLDAYEVENT:FALSE
SUMMARY:Ansay & Associates Workshop Series: An Innovative Approach to Successfully Managing a Multigenerational Workforce
DESCRIPTION:As competition for talent escalates\, it's no secret that productivity and operational efficiency is linked to a positive work environment. With five generations in the workplace\, there is no time like the present to understand how their differences affect team dynamics for your staff. Millennials may be the hot topic right now\, but a comprehensive look at your overall culture will help you address the generational attributes that shape even the simplest interactions. Learn what motivates each generation and then leverage that information to find common ground and work together effectively. Create strategies to manage these cultural shifts and address communication approaches\, training opportunities and the use of technology in an ever-increasingly tech-filled world. Translate these ideas into actionable steps to enhance your organization's recruitment and retention strategies.
X-ALT-DESC;FMTTYPE=text/html:As competition for talent escalates\, it&rsquo\;s no secret that productivity and operational efficiency is linked to a positive work environment. With five generations in the workplace\, there is no time like the present to understand how their differences affect team dynamics for your staff. Millennials may be the hot topic right now\, but a comprehensive look at your overall culture will help you address the generational attributes that shape even the simplest interactions. Learn what motivates each generation and then leverage that information to find common ground and work together effectively. Create strategies to manage these cultural shifts and address communication approaches\, training opportunities and the use of technology in an ever-increasingly tech-filled world. Translate these ideas into actionable steps to enhance your organization&rsquo\;s recruitment and retention strategies.
LOCATION:United Healthcare 3100 AMS Blvd Green Bay\, WI 54313
UID:e.361.13780
SEQUENCE:3
DTSTAMP:20260426T000211Z
URL:https://business.chambermanitowoccounty.org/events/details/ansay-associates-workshop-series-an-innovative-approach-to-successfully-managing-a-multigenerational-workforce-13780
END:VEVENT

END:VCALENDAR
