BEGIN:VCALENDAR
VERSION:2.0
PRODID:-//ChamberMaster//Event Calendar 2.0//EN
METHOD:PUBLISH
X-PUBLISHED-TTL:P3D
REFRESH-INTERVAL:P3D
CALSCALE:GREGORIAN
BEGIN:VEVENT
DTSTART:20190220T140000Z
DTEND:20190220T160000Z
X-MICROSOFT-CDO-ALLDAYEVENT:FALSE
SUMMARY:Ansay & Associates Workshop Series: Understanding Cyber Liability
DESCRIPTION:This workshop will discuss the evolution of Cyber Liability - from its creation to its modern day structure\, why the product has continued to evolve\, what coverage entails and why it differs from existing insurance products that insured's are familiar with. You will also learn about what cyber liability covers and doesn't cover\, the legal and regulatory climate and why it's important to understand state laws. We will talk about examples of breaches\, how breaches are being committed\, common vulnerabilities being exploited by hackers\, the most common types of cyber-attacks and losses\, and the value of buying a Cyber policy and what risk management services are often provided by the carrier.
X-ALT-DESC;FMTTYPE=text/html:This workshop will discuss the evolution of Cyber Liability - from its creation to its modern day structure\, why the product has continued to evolve\, what coverage entails and why it differs from existing insurance products that insured&rsquo\;s are familiar with. You will also learn about what cyber liability covers and doesn&rsquo\;t cover\, the legal and regulatory climate and why it&rsquo\;s important to understand state laws. We will talk about examples of breaches\, how breaches are being committed\, common vulnerabilities being exploited by hackers\, the most common types of cyber-attacks and losses\, and the value of buying a Cyber policy and what risk management services are often provided by the carrier.
LOCATION:United Healthcare 3100 AMS Blvd Green Bay\, WI 54313"
UID:e.361.13781
SEQUENCE:3
DTSTAMP:20260426T000152Z
URL:https://business.chambermanitowoccounty.org/events/details/ansay-associates-workshop-series-understanding-cyber-liability-13781
END:VEVENT

END:VCALENDAR
