BEGIN:VCALENDAR
VERSION:2.0
PRODID:-//ChamberMaster//Event Calendar 2.0//EN
METHOD:PUBLISH
X-PUBLISHED-TTL:P3D
REFRESH-INTERVAL:P3D
CALSCALE:GREGORIAN
BEGIN:VEVENT
DTSTART:20190928T134500Z
DTEND:20190928T170000Z
X-MICROSOFT-CDO-ALLDAYEVENT:FALSE
SUMMARY:Ascend Services\, Inc. 5K Run\, Walk & Roll Family Fun & Fitness
DESCRIPTION:ascend Services is hosting its third Annual 5K Run\, Walk & Roll\, sponsored by many area businesses. This year the evnt has added Family Fun & Fitness to the lineup of events. The event is at the Lincoln Park Zoo\, Cabin #1. Registered events include the 5K Timed Run\, 5K Walk\, 0.0 "Run"\, Kids 1/4 Mile Run/Walk. FREE events are Family Yoga\, Fitness Scavenger Hunt in the Zoo\, Gift Basket Auction\, 50/50 Raffle\, Face Painting\, Music and more! Register at www.ascendservicesinc.org or stop in and pick up a form at Ascend\, 2818 Meadow Lane!
X-ALT-DESC;FMTTYPE=text/html:ascend Services is hosting its third Annual 5K Run\, Walk &amp\; Roll\, sponsored by many area businesses. This year the evnt has added Family Fun &amp\; Fitness to the lineup of events. The event is at the Lincoln Park Zoo\, Cabin #1. Registered events include the 5K Timed Run\, 5K Walk\, 0.0 &quot\;Run&quot\;\, Kids 1/4 Mile Run/Walk. FREE events are Family Yoga\, Fitness Scavenger Hunt in the Zoo\, Gift Basket Auction\, 50/50 Raffle\, Face Painting\, Music and more! Register at www.ascendservicesinc.org or stop in and pick up a form at Ascend\, 2818 Meadow Lane!
LOCATION:Lincoln Park Cabin #1\, Manitowoc
UID:e.361.14711
SEQUENCE:3
DTSTAMP:20260425T155824Z
URL:https://business.chambermanitowoccounty.org/events/details/ascend-services-inc-5k-run-walk-roll-family-fun-fitness-14711
END:VEVENT

END:VCALENDAR
