BEGIN:VCALENDAR
VERSION:2.0
PRODID:-//ChamberMaster//Event Calendar 2.0//EN
METHOD:PUBLISH
X-PUBLISHED-TTL:P3D
REFRESH-INTERVAL:P3D
CALSCALE:GREGORIAN
BEGIN:VEVENT
DTSTART:20220409T163000Z
DTEND:20220409T220000Z
X-MICROSOFT-CDO-ALLDAYEVENT:FALSE
SUMMARY:Ascend Services\, Inc. Throw with All Your Heart Axe Olympics
DESCRIPTION:Join us for an axe throwing competition. There will be 10 teams competing in several events\, including axe throwing. The day will include a Celebrity Axe Throwing Competition\, 50/50 Raffles\, Shake of the Day and more fun! Brian's Smokehouse food truck will be on site with good eats! Register on our FB Event or our webpage under Events.
X-ALT-DESC;FMTTYPE=text/html:Join us for an axe throwing competition. There will be 10 teams competing in several events\, including axe throwing. The day will include a Celebrity Axe Throwing Competition\, 50/50 Raffles\, Shake of the Day and more fun! Brian&#39\;s Smokehouse food truck will be on site with good eats! Register on our FB Event or our webpage under Events.
LOCATION:Tapped on the Lakeshore 3114 Memorial Drive\, Two Rivers\, WI 54241
UID:e.361.17265
SEQUENCE:3
DTSTAMP:20260422T143614Z
URL:https://business.chambermanitowoccounty.org/events/details/ascend-services-inc-throw-with-all-your-heart-axe-olympics-17265
END:VEVENT

END:VCALENDAR
