BEGIN:VCALENDAR
VERSION:2.0
PRODID:-//ChamberMaster//Event Calendar 2.0//EN
METHOD:PUBLISH
X-PUBLISHED-TTL:P3D
REFRESH-INTERVAL:P3D
CALSCALE:GREGORIAN
BEGIN:VEVENT
DTSTART:20191013T130000Z
DTEND:20191013T170000Z
X-MICROSOFT-CDO-ALLDAYEVENT:FALSE
SUMMARY:Autumn Breakfast in the Park
DESCRIPTION:Please join us for breakfast in the Main Lodge at Point Beach State Forest where a buffet breakfast with beverage will be served. Raffle baskets will also be available. This event is sponsored by Point Beach Concessions and the Two Rivers Optimist Club. 50% of the proceeds go to the Two Rivers Optimist Club. As a Friend of Youth we support area youth with direct club involvement and the financial support of youth activities. If attending the breakfast\, entry to the State Park is free.
X-ALT-DESC;FMTTYPE=text/html:Please join us for breakfast in the Main Lodge at Point Beach State Forest where a buffet breakfast with beverage will be served. Raffle baskets will also be available. This event is sponsored by Point Beach Concessions and the Two Rivers Optimist Club. 50% of the proceeds go to the Two Rivers Optimist Club. As a Friend of Youth we support area youth with direct club involvement and the financial support of youth activities. If attending the breakfast\, entry to the State Park is free.
LOCATION:Point Beach State Forest Main Lodge
UID:e.361.14713
SEQUENCE:3
DTSTAMP:20260425T143312Z
URL:https://business.chambermanitowoccounty.org/events/details/autumn-breakfast-in-the-park-14713
END:VEVENT

END:VCALENDAR
