BEGIN:VCALENDAR
VERSION:2.0
PRODID:-//ChamberMaster//Event Calendar 2.0//EN
METHOD:PUBLISH
X-PUBLISHED-TTL:P3D
REFRESH-INTERVAL:P3D
CALSCALE:GREGORIAN
BEGIN:VEVENT
DTSTART:20230209T223000Z
DTEND:20230210T030000Z
X-MICROSOFT-CDO-ALLDAYEVENT:FALSE
SUMMARY:Awards of Distinction
DESCRIPTION:Online registration has closed.  Please call The Chamber at (920) 684-5575 to R.S.V.P.\nReception:\n\n\n	Reception & hors d'oeuvres will begin at 4:30 PM.\n	Enjoy music\, cash bars and hors d'oeuvres throughout the Capitol Civic Centre.\n	Nominee photos will also be taken during the reception.\n\n\n\n\nAwards Program:\n\n\n\n	The awards program will begin at 6:00 PM in the theatre. \n	Sit back\, relax and delight in the program from the comfort of your seat.\n	The program will honor all nominees and award winners - as we take a look back at 2022 and celebrate the wonderful things happening in our community.  We will honor award winners in the following categories:\n\n\nAthena:  The Athena leadership award is presented to a woman -- or man -- who is honored for professional excellence\, community service and for actively assisting women in their attainment of professional excellence and leadership skills. \n\nSponsored by:  Steimle Birschbach\, Fricke Printing Company & The Tower Company\n\n\n\nCollaboration:  Recognizes a Manitowoc County project\, activity or event for its progress\, success\, innovation\, and contribution to the community during 2022.\n\nSponsored by:  Berkshire Hathaway Starck Real Estate\n\n\n\nEducation Impact:  Recognizes an exceptionally dedicated educator who impacts parents\, students\, or the community beyond the scope of the classroom while integrating business and community resources to enhance student learning opportunities.\n\nSponsored by:  Manitowoc Ice\n\n\n\nHealthy Workplace: Recognizes a Chamber member business/organization or program for its focus and commitment to promoting health\, wellness or safety in our community.\n\nSponsored by:  Prevea Health\n\n\n\nJoseph P. Schmitt "Speak Up" Award:  Established over 35 years ago to honor the late Chamber Executive Joseph P. Schmitt\, recognizes an individual who has made exceptional contributions to the quality of life for citizens of Manitowoc County over a period of time.\n\nSponsored by:  Past Award Recipients\n\n\n\nLarge Business/Industry of the Year:  Recognizes a Manitowoc county business (26+ Employees) for its growth\, success\, innovation and contribution to the community during 2022. \n\nSponsored by:  UnitedOne Credit Union\n\n\n\nNon-Profit Organization of the Year: Recognizes a Manitowoc county Non-Profit Organization for its dedication to serving the community at-large.\n\nSponsored by:  Fricke Printing Service\n\n \n\n\nSmall Business of the Year: Recognizes a Manitowoc county business (Less than 25 employees) for its growth\, success\, innovation and contribution to the community during 2022.\n\nSponsored by:  Americollect\n\n\n\nVolunteer of the Year honors an individual for going above and beyond as a Chamber\, and community volunteer.\n\nSponsored by:  Ansay & Associates\n\n\n\nYoung Professional (YP) of the Year:   Honors a role model in career\, community and future impact.  The YP receiving this award excels in their career and has also left and will continue to leave a lasting footprint within the community through volunteer work.  The award winner is selected from the 2022 Future 15 award winners. \n\nSponsored by:  Associated Bank
X-ALT-DESC;FMTTYPE=text/html:Online registration has closed.&nbsp\; Please call The Chamber at (920) 684-5575 to R.S.V.P.\n<p><span style="font-family:arial\;"><span style="font-size:18px\;"><u><strong><em>Reception:</em></strong></u></span></span></p>\n\n<ul>\n	<li class="_04xlpA direction-ltr align-center para-style-body" line-height:="" style="color: rgb(0\, 0\, 0)\;" yacgebq6yac=""><span style="font-family:arial\;"><em><span class="S1PPyQ">Reception &amp\;<span class="S1PPyQ white-space-prewrap"> </span>hors d&#39\;oeuvres will begin at</span><span class="S1PPyQ" style="font-weight: 700\;"> 4:30 PM</span><span class="S1PPyQ">.</span></em></span></li>\n	<li class="_04xlpA direction-ltr align-center para-style-body" line-height:="" style="color: rgb(0\, 0\, 0)\;" yacgebq6yac=""><span style="font-family:arial\;"><em><span class="S1PPyQ"><span style="font-family:arial\;"><em><span class="S1PPyQ">Enjoy music\, cash bars and hors d&#39\;oeuvres throughout the Capitol Civic Centre.</span></em></span></span></em></span></li>\n	<li class="_04xlpA direction-ltr align-center para-style-body" line-height:="" style="color: rgb(0\, 0\, 0)\;" yacgebq6yac=""><span style="font-family:arial\;"><em><span class="S1PPyQ"><span style="font-family:arial\;"><em><span class="S1PPyQ"><span style="font-family:arial\;"><em><span class="S1PPyQ">Nominee photos will also be taken during the reception.</span></em></span></span></em></span></span></em></span></li>\n</ul>\n\n<p class="_04xlpA direction-ltr align-center para-style-body" line-height:="" style="color: rgb(0\, 0\, 0)\; font-family: " yacgebq6yac=""><br />\n<span style="font-family:arial\;"><em><span style="font-size:18px\;"><u><strong>Awards Program:</strong></u></span></em></span></p>\n\n<div class="_04xlpA direction-ltr align-center para-style-body" line-height:="" style="color: rgb(0\, 0\, 0)\; font-family: " yacgebq6yac="">\n<ul>\n	<li class="_04xlpA direction-ltr align-center para-style-body" line-height:="" style="color: rgb(0\, 0\, 0)\;" yacgebq6yac=""><em><span style="font-family:arial\;"><span class="S1PPyQ">The awards program will begin at </span><span class="S1PPyQ" style="font-weight: 700\;">6:00 PM</span><span class="S1PPyQ white-space-prewrap" style="font-weight: 700\;"> </span><span class="S1PPyQ">in the theatre.</span><span class="S1PPyQ white-space-prewrap"> </span></span></em></li>\n	<li class="_04xlpA direction-ltr align-center para-style-body" line-height:="" style="color: rgb(0\, 0\, 0)\;" yacgebq6yac=""><em><em><em><span style="font-family:arial\;"><span class="S1PPyQ">Sit back\, relax and delight in the program from the comfort of your seat.</span></span></em></em></em></li>\n	<li class="_04xlpA direction-ltr align-center para-style-body" line-height:="" style="color: rgb(0\, 0\, 0)\;" yacgebq6yac=""><em><em><em><em><span style="font-family:arial\;"><span class="S1PPyQ">The program will honor all nominees and award winners - as we take a look back at 2022 and celebrate the wonderful things happening in our community.&nbsp\;&nbsp\;<em><span style="font-family:arial\;"><span class="S1PPyQ">We will honor award winners in the following categories:</span></span></em></span></span></em></em></em></em></li>\n</ul>\n\n<p class="_04xlpA direction-ltr align-center para-style-body" line-height:="" style="color: rgb(0\, 0\, 0)\; margin-left: 40px\;" yacgebq6yac=""><strong style="color: rgb(0\, 0\, 0)\;">Athena:&nbsp\;</strong><span style="color: rgb(0\, 0\, 0)\;">&nbsp\;The&nbsp\;Athena&nbsp\;leadership award is presented to a woman -- or man -- who is honored for professional excellence\, community service and for actively assisting women in their attainment of professional excellence and leadership skills.&nbsp\;</span><br style="color: rgb(0\, 0\, 0)\;" />\n<em style="color: rgb(0\, 0\, 0)\;">Sponsored by:&nbsp\; Steimle Birschbach\, Fricke Printing Company &amp\; The Tower Company</em><br />\n<br />\n<strong style="color: rgb(0\, 0\, 0)\;">Collaboration:&nbsp\;</strong><span style="color: rgb(0\, 0\, 0)\;">&nbsp\;</span><span style="color: rgb(0\, 0\, 0)\;">R</span><span style="color: rgb(0\, 0\, 0)\;">ecognizes a Manitowoc County project\, activity or event for its progress\, success\, innovation\, and contribution to the community during 2022.</span><br style="color: rgb(0\, 0\, 0)\;" />\n<em style="color: rgb(0\, 0\, 0)\;">Sponsored by:&nbsp\; Berkshire Hathaway Starck Real Estate</em><br />\n<br />\n<strong style="color: rgb(0\, 0\, 0)\;">Education Impact:&nbsp\;</strong><span style="color: rgb(0\, 0\, 0)\;">&nbsp\;R</span><span style="color: rgb(0\, 0\, 0)\;">ecognizes an exceptionally dedicated educator who impacts parents\, students\, or the community beyond the scope of the classroom while integrating business and community resources to enhance student learning opportunities.</span><br style="color: rgb(0\, 0\, 0)\;" />\n<em style="color: rgb(0\, 0\, 0)\;">Sponsored by:&nbsp\; Manitowoc Ice</em><br />\n<br />\n<strong style="color: rgb(0\, 0\, 0)\;">Healthy Workplace:</strong><span style="color: rgb(0\, 0\, 0)\;">&nbsp\;R</span><span style="color: rgb(0\, 0\, 0)\;">ecognizes a Chamber member business/organization or program for its focus and commitment to promoting health\, wellness or safety in our community.</span><br style="color: rgb(0\, 0\, 0)\;" />\n<em style="color: rgb(0\, 0\, 0)\;">Sponsored by:&nbsp\; Prevea Health</em><br />\n<br />\n<strong style="color: rgb(0\, 0\, 0)\;">Joseph P. Schmitt &ldquo\;Speak Up&rdquo\; Award:&nbsp\;<em>&nbsp\;</em></strong><span style="color: rgb(0\, 0\, 0)\;">Established over 35 years ago to honor the late Chamber Executive Joseph P. Schmitt\, recognizes an individual who has made exceptional contributions to the quality of life for citizens of Manitowoc County over a period of time.</span><br style="color: rgb(0\, 0\, 0)\;" />\n<em style="color: rgb(0\, 0\, 0)\;">Sponsored by:&nbsp\; Past Award Recipients</em><br />\n<br />\n<strong>Large Business/Industry of the Year:</strong>&nbsp\; Recognizes a Manitowoc county business (26+ Employees) for its growth\, success\, innovation and contribution to the community during 2022.&nbsp\;<br />\n<em style="color: rgb(0\, 0\, 0)\;">Sponsored by:&nbsp\; UnitedOne Credit Union</em><br />\n<br />\n<strong>Non-Profit Organization of the Year:</strong>&nbsp\;Recognizes a Manitowoc county Non-Profit Organization&nbsp\;for its dedication to serving the community at-large.<br />\n<em style="color: rgb(0\, 0\, 0)\;">Sponsored by:&nbsp\; Fricke Printing Service</em><br />\n&nbsp\;</p>\n\n<div class="_04xlpA direction-ltr align-center para-style-body" style="color: rgb(0\, 0\, 0)\;">\n<div class="_04xlpA direction-ltr align-center para-style-body" style="color: rgb(0\, 0\, 0)\; margin-left: 40px\;"><strong>Small Business of the Year:&nbsp\;</strong>Recognizes&nbsp\;a Manitowoc county business (Less than 25 employees)&nbsp\;for its growth\, success\, innovation and contribution to the community during 2022.</div>\n\n<div class="_04xlpA direction-ltr align-center para-style-body" style="color: rgb(0\, 0\, 0)\; margin-left: 40px\;"><em>Sponsored by:&nbsp\;&nbsp\;Americollect</em><br />\n<br />\n<strong style="color: rgb(0\, 0\, 0)\;">Volunteer of the Year</strong><em style="color: rgb(0\, 0\, 0)\;"><strong>&nbsp\;</strong></em><span style="color: rgb(0\, 0\, 0)\;">honors an individual for going above and beyond as a Chamber\, and community volunteer.</span><br style="color: rgb(0\, 0\, 0)\;" />\n<em style="color: rgb(0\, 0\, 0)\;">Sponsored by:&nbsp\;&nbsp\;Ansay &amp\; Associates</em></div>\n\n<div style="margin-left: 40px\;"><br />\n<strong>Young Professional (YP) of the Year:&nbsp\;&nbsp\;</strong>&nbsp\;Honors a role model in career\, community and future impact.&nbsp\; The YP receiving this award excels in their career and has also left and will continue to leave a lasting footprint within the community through volunteer work.&nbsp\; The award winner is selected from the 2022&nbsp\;Future 15 award winners.&nbsp\;<br />\n<em style="color: rgb(0\, 0\, 0)\;">Sponsored by:&nbsp\;&nbsp\;Associated Bank</em></div>\n</div>\n\n<p class="_04xlpA direction-ltr align-center para-style-body" line-height:="" style="color: rgb(0\, 0\, 0)\; margin-left: 40px\;" yacgebq6yac=""><br />\n&nbsp\;</p>\n\n<p style="margin-left: 40px\;">&nbsp\;</p>\n</div>\n\n<p style="margin-left: 40px\;">&nbsp\;</p>\n
LOCATION:Capitol Civic Centre 913 S. 8th St. Manitowoc
UID:e.361.18023
SEQUENCE:3
DTSTAMP:20260419T220554Z
URL:https://business.chambermanitowoccounty.org/events/details/awards-of-distinction-18023
END:VEVENT

END:VCALENDAR
