BEGIN:VCALENDAR
VERSION:2.0
PRODID:-//ChamberMaster//Event Calendar 2.0//EN
METHOD:PUBLISH
X-PUBLISHED-TTL:P3D
REFRESH-INTERVAL:P3D
CALSCALE:GREGORIAN
BEGIN:VEVENT
DTSTART:20211120T010000Z
DTEND:20211120T030000Z
X-MICROSOFT-CDO-ALLDAYEVENT:FALSE
SUMMARY:Back to an Up Close Christmas with John McGivern
DESCRIPTION:John McGivern serves up a steady stream of holiday stories from his Eastside of Milwaukee childhood. They recall an age of innocence bounded by Thanksgiving Dinner Traditions\, Santa's handcrafted Christmas toys\, Midnight Mass Expectations and New Year's Eve adult only parties in the Bartlett Avenue finished basement. This show recounts holidays past and present and is guaranteed to generate loads of laughs and a warm\, holiday glow.
X-ALT-DESC;FMTTYPE=text/html:John McGivern serves up a steady stream of holiday stories from his Eastside of Milwaukee childhood. They recall an age of innocence bounded by Thanksgiving Dinner Traditions\, Santa&rsquo\;s handcrafted Christmas toys\, Midnight Mass Expectations and New Year&rsquo\;s Eve adult only parties in the Bartlett Avenue finished basement. This show recounts holidays past and present and is guaranteed to generate loads of laughs and a warm\, holiday glow.
LOCATION:Weill Center
UID:e.361.17000
SEQUENCE:3
DTSTAMP:20260422T195220Z
URL:https://business.chambermanitowoccounty.org/events/details/back-to-an-up-close-christmas-with-john-mcgivern-17000
END:VEVENT

END:VCALENDAR
