BEGIN:VCALENDAR
VERSION:2.0
PRODID:-//ChamberMaster//Event Calendar 2.0//EN
METHOD:PUBLISH
X-PUBLISHED-TTL:P3D
REFRESH-INTERVAL:P3D
CALSCALE:GREGORIAN
BEGIN:VEVENT
DTSTART:20190412T000000Z
DTEND:20190412T023000Z
X-MICROSOFT-CDO-ALLDAYEVENT:FALSE
SUMMARY:Backstage Pass featuring Sister Winchester
DESCRIPTION:SPONSORED BY LAKE 98.1 The Backstage Pass series was launched in October 2018 to provide a different type of intimate performances to attract new audiences to the theater. One Thursday each month\, this event features an up-and-coming band that plays on the Weill Center stage\, with their backs to the auditorium. Why? Because the audience is "backstage!" Guests get an all-access pass to hang out backstage with the band\, complete with bar access\, appetizers for purchase\, and seating   and room to dance! The "cover charge" is $5 CASH ONLY at the door. Space is limited to 140 people and guests must be 21+. Doors open at 6 p.m. Sister Winchester is a Wisconsin-based duo consisting of small town sisters\, Jenna Lee and Shaun Marie\, who have been laughing\, singing\, and creating together since childhood. With the stars aligning\, a window of opportunity was opened - the sisters formed their own group\, with capabilities of having up to a five-piece band. The sisters perform songs that showcase their vocal harmonies that only siblings can share with influences of Southern rock and folk. They cover songs that hold weight throughout their experience of growing up together\, as well as those that have helped shape their own originals.
X-ALT-DESC;FMTTYPE=text/html:SPONSORED BY LAKE 98.1 The Backstage Pass series was launched in October 2018 to provide a different type of intimate performances to attract new audiences to the theater. One Thursday each month\, this event features an up-and-coming band that plays on the Weill Center stage\, with their backs to the auditorium. Why? Because the audience is &ldquo\;backstage!&rdquo\; Guests get an all-access pass to hang out backstage with the band\, complete with bar access\, appetizers for purchase\, and seating &ndash\; and room to dance! The &ldquo\;cover charge&rdquo\; is $5 CASH ONLY at the door. Space is limited to 140 people and guests must be 21+. Doors open at 6 p.m. Sister Winchester is a Wisconsin-based duo consisting of small town sisters\, Jenna Lee and Shaun Marie\, who have been laughing\, singing\, and creating together since childhood. With the stars aligning\, a window of opportunity was opened - the sisters formed their own group\, with capabilities of having up to a five-piece band. The sisters perform songs that showcase their vocal harmonies that only siblings can share with influences of Southern rock and folk. They cover songs that hold weight throughout their experience of growing up together\, as well as those that have helped shape their own originals.
LOCATION:826 N 8th St
UID:e.361.14099
SEQUENCE:3
DTSTAMP:20260425T214713Z
URL:https://business.chambermanitowoccounty.org/events/details/backstage-pass-featuring-sister-winchester-14099
END:VEVENT

END:VCALENDAR
