BEGIN:VCALENDAR
VERSION:2.0
PRODID:-//ChamberMaster//Event Calendar 2.0//EN
METHOD:PUBLISH
X-PUBLISHED-TTL:P3D
REFRESH-INTERVAL:P3D
CALSCALE:GREGORIAN
BEGIN:VEVENT
DTSTART:20211026T213000Z
DTEND:20211026T220000Z
X-MICROSOFT-CDO-ALLDAYEVENT:FALSE
SUMMARY:BALANCE ON BUFFALO SOUNDSPACE RIBBON CUTTING
DESCRIPTION:Balance on Buffalo cordially invites you to attend a ribbon cutting ceremony for the grand opening of SoundSpace. SoundSpace continues the commitment by Balance on Buffalo to holistic applications targeting body\, mind and spirit for living one's best life. The new space\, just around the corner from Balance on Buffalo\, will offer Peter Hess Sound Therapy Experiences\, along with sound and vibration infused meditations\, breath work and yoga classes. The ribbon cutting will be followed by a tour of the new SoundSpace along with light refreshments from businesses in the surrounding area. We look forward to sharing with you this next momentous step in our journey of overall well-being.
X-ALT-DESC;FMTTYPE=text/html:<div style="margin: 0px\; padding: 0px\; border: 0px\; font-variant-numeric: inherit\; font-variant-east-asian: inherit\; font-stretch: inherit\; font-size: 15px\; line-height: inherit\; font-family: &quot\;Segoe UI&quot\;\, &quot\;Segoe UI Web (West European)&quot\;\, &quot\;Segoe UI&quot\;\, -apple-system\, BlinkMacSystemFont\, Roboto\, &quot\;Helvetica Neue&quot\;\, sans-serif\; vertical-align: baseline\; color: rgb(0\, 0\, 0)\;">Balance on Buffalo cordially invites you to attend a ribbon cutting ceremony for the grand opening of SoundSpace. SoundSpace continues the commitment by Balance on Buffalo to holistic applications targeting body\, mind and spirit for living one&rsquo\;s best life. The new space\, just around the corner from Balance on Buffalo\, will offer Peter Hess Sound Therapy Experiences\, along with sound and vibration infused meditations\, breath work and yoga classes. The ribbon cutting will be followed by a tour of the new SoundSpace along with light refreshments from businesses in the surrounding area. We look forward to sharing with you this next momentous step in our journey of overall well-being.&nbsp\;</div>\n\n<div style="margin: 0px\; padding: 0px\; border: 0px\; font-variant-numeric: inherit\; font-variant-east-asian: inherit\; font-stretch: inherit\; font-size: 15px\; line-height: inherit\; font-family: &quot\;Segoe UI&quot\;\, &quot\;Segoe UI Web (West European)&quot\;\, &quot\;Segoe UI&quot\;\, -apple-system\, BlinkMacSystemFont\, Roboto\, &quot\;Helvetica Neue&quot\;\, sans-serif\; vertical-align: baseline\; color: rgb(0\, 0\, 0)\;">&nbsp\;</div>\n\n<div style="margin: 0px\; padding: 0px\; border: 0px\; font-variant-numeric: inherit\; font-variant-east-asian: inherit\; font-stretch: inherit\; font-size: 15px\; line-height: inherit\; font-family: &quot\;Segoe UI&quot\;\, &quot\;Segoe UI Web (West European)&quot\;\, &quot\;Segoe UI&quot\;\, -apple-system\, BlinkMacSystemFont\, Roboto\, &quot\;Helvetica Neue&quot\;\, sans-serif\; vertical-align: baseline\; color: rgb(0\, 0\, 0)\;">&nbsp\;</div>\n
LOCATION:211 N. 9th St.\, Manitowoc
UID:e.361.16929
SEQUENCE:3
DTSTAMP:20260422T224933Z
URL:https://business.chambermanitowoccounty.org/events/details/balance-on-buffalo-soundspace-ribbon-cutting-16929
END:VEVENT

END:VCALENDAR
