BEGIN:VCALENDAR
VERSION:2.0
PRODID:-//ChamberMaster//Event Calendar 2.0//EN
METHOD:PUBLISH
X-PUBLISHED-TTL:P3D
REFRESH-INTERVAL:P3D
CALSCALE:GREGORIAN
BEGIN:VEVENT
DTSTART:20190627T233000Z
DTEND:20190628T003000Z
X-MICROSOFT-CDO-ALLDAYEVENT:FALSE
SUMMARY:Bedtime Stories (AS TOLD BY OUR DAD)(WHO MESSES THEM UP)
DESCRIPTION:Bedtime Stories (AS TOLD BY OUR DAD) (wHO MESSED THEM UP) A Comedy by Ed Monk Come and join us in for an evening of silly bedtime stories presented by the O.H. Schultz Elementary Summer School Theater Production class! All audience members are encouraged to wear their pajamas and cookies and milk concessions will be available. Tickets are $4 at the door. Licensed by Playscripts\, Inc.
X-ALT-DESC;FMTTYPE=text/html:Bedtime Stories (AS TOLD BY OUR DAD) (wHO MESSED THEM UP) A Comedy by Ed Monk Come and join us in for an evening of silly bedtime stories presented by the O.H. Schultz Elementary Summer School Theater Production class! All audience members are encouraged to wear their pajamas and cookies and milk concessions will be available. Tickets are $4 at the door. Licensed by Playscripts\, Inc.
LOCATION:O.H. Schultz Elementary School 510 Woodlawn Dr\, Mishicot\, WI 54228
UID:e.361.14131
SEQUENCE:3
DTSTAMP:20260425T193858Z
URL:https://business.chambermanitowoccounty.org/events/details/bedtime-stories-as-told-by-our-dad-who-messes-them-up-14131
END:VEVENT

END:VCALENDAR
