BEGIN:VCALENDAR
VERSION:2.0
PRODID:-//ChamberMaster//Event Calendar 2.0//EN
METHOD:PUBLISH
X-PUBLISHED-TTL:P3D
REFRESH-INTERVAL:P3D
CALSCALE:GREGORIAN
BEGIN:VEVENT
DTSTART:20190625T230000Z
DTEND:20190626T010000Z
X-MICROSOFT-CDO-ALLDAYEVENT:FALSE
SUMMARY:Bike Safety Rodeo & Kids's Night
DESCRIPTION:The Two RIvers Optimist safety checks the kids bikes and fits helmet properly. If their helmet does not fit correctly or the child does not have one a brand new helmet is provided. The Two Rivers Police Department teaches bike safety rules and oversees a safety obstacle course. The Two Rivers Recreation Dept provides games and activities for them as well as food and beverages. A brand new bicycle is awarded to one lucky boy and girl.
X-ALT-DESC;FMTTYPE=text/html:The Two RIvers Optimist safety checks the kids bikes and fits helmet properly. If their helmet does not fit correctly or the child does not have one a brand new helmet is provided. The Two Rivers Police Department teaches bike safety rules and oversees a safety obstacle course. The Two Rivers Recreation Dept provides games and activities for them as well as food and beverages. A brand new bicycle is awarded to one lucky boy and girl.
LOCATION:Two Rivers Washington Park
UID:e.361.14435
SEQUENCE:3
DTSTAMP:20260425T193650Z
URL:https://business.chambermanitowoccounty.org/events/details/bike-safety-rodeo-kids-s-night-14435
END:VEVENT

END:VCALENDAR
