BEGIN:VCALENDAR
VERSION:2.0
PRODID:-//ChamberMaster//Event Calendar 2.0//EN
METHOD:PUBLISH
X-PUBLISHED-TTL:P3D
REFRESH-INTERVAL:P3D
CALSCALE:GREGORIAN
BEGIN:VEVENT
DTSTART:20190429T170000Z
DTEND:20190429T180000Z
X-MICROSOFT-CDO-ALLDAYEVENT:FALSE
SUMMARY:Boys & Girls Club: Community Wide Meeting
DESCRIPTION:Community Wide Meeting \n\nAmy Townsend & Zarine Hanson\n\nClick here to view flyer\n\nPanel\n\nJustin Nickels: Mayor of City of Manitowoc\n\nNick Reimer: Police Chief of Manitowoc Police Department\n\nMark Holzman: Superintendent for Manitowoc Public School\n\nBrett Norell: VP & CEO of Holy Family Memorial Hospital\n\nJulie Grossman: CEO of Manitowoc-Two Rivers YMCA\n\nGreg Lemke-Rochon: CEO of Boys & Girls Club of the Fox Valley\n\nDon't miss this opportunity to learn\, question\, and experience this remarkable plan for change for the youth in our community.
X-ALT-DESC;FMTTYPE=text/html:<div style="text-align: center\;">Community Wide Meeting&nbsp\;</div>\n\n<div style="text-align: center\;">Amy Townsend &amp\; Zarine Hanson<br />\n<a href="https://chambermaster.blob.core.windows.net/userfiles/UserFiles/chambers/361/File/April29thCommunityFlyer.pdf">Click here</a> to view flyer</div>\n\n<div style="text-align: center\;"><strong>Panel</strong><br />\nJustin Nickels: Mayor of City of Manitowoc<br />\nNick Reimer: Police Chief of Manitowoc Police Department<br />\nMark Holzman: Superintendent for Manitowoc Public School<br />\nBrett Norell: VP &amp\; CEO of Holy Family Memorial Hospital<br />\nJulie Grossman: CEO of Manitowoc-Two Rivers YMCA<br />\nGreg Lemke-Rochon: CEO of Boys &amp\; Girls Club of the Fox Valley<br />\nDon&rsquo\;t miss this opportunity to learn\, question\, and experience this remarkable plan for change for the youth in our community.</div>\n
LOCATION:Manitowoc Public Library 707 Quay St.\, Manitowoc
UID:e.361.14104
SEQUENCE:3
DTSTAMP:20260425T215744Z
URL:https://business.chambermanitowoccounty.org/events/details/boys-girls-club-community-wide-meeting-14104
END:VEVENT

END:VCALENDAR
