BEGIN:VCALENDAR
VERSION:2.0
PRODID:-//ChamberMaster//Event Calendar 2.0//EN
METHOD:PUBLISH
X-PUBLISHED-TTL:P3D
REFRESH-INTERVAL:P3D
CALSCALE:GREGORIAN
BEGIN:VEVENT
DTSTART:20221015T130000Z
DTEND:20221015T170000Z
X-MICROSOFT-CDO-ALLDAYEVENT:FALSE
SUMMARY:Breakfast in the Park
DESCRIPTION:Optimist Club of Two Rivers and Point Beach Concessions are hosting Breakfast in the Park supporting Youth Activities in Two Rivers. A buffet breakfast with beverage is being served. Raffle baskets will also be available for purchase.
X-ALT-DESC;FMTTYPE=text/html:Optimist Club of Two Rivers and Point Beach Concessions are hosting Breakfast in the Park supporting Youth Activities in Two Rivers. A buffet breakfast with beverage is being served. Raffle baskets will also be available for purchase.
LOCATION:Point Beach State Forest Concession Stand (Lodge)
UID:e.361.18042
SEQUENCE:3
DTSTAMP:20260420T033309Z
URL:https://business.chambermanitowoccounty.org/events/details/breakfast-in-the-park-10-15-2022-18042
END:VEVENT

END:VCALENDAR
