BEGIN:VCALENDAR
VERSION:2.0
PRODID:-//ChamberMaster//Event Calendar 2.0//EN
METHOD:PUBLISH
X-PUBLISHED-TTL:P3D
REFRESH-INTERVAL:P3D
CALSCALE:GREGORIAN
BEGIN:VEVENT
DTSTART:20221203T150000Z
DTEND:20221203T190000Z
X-MICROSOFT-CDO-ALLDAYEVENT:FALSE
SUMMARY:Breakfast with Santa
DESCRIPTION:Join us for the 2nd Annual Breakfast with Santa at Farm Wisconsin! Enjoy a delicious breakfast\, make some holiday crafts\, explore the discovery center\, meet Santa's reindeer\, and talk with Santa and Mrs. Claus. All activities are included with Breakfast with Santa ticket purchase.
X-ALT-DESC;FMTTYPE=text/html:Join us for the 2nd Annual Breakfast with Santa at Farm Wisconsin! Enjoy a delicious breakfast\, make some holiday crafts\, explore the discovery center\, meet Santa&rsquo\;s reindeer\, and talk with Santa and Mrs. Claus. All activities are included with Breakfast with Santa ticket purchase.
LOCATION:Farm Wisconsin Discovery Center 7001 Gass Lake Road\, Manitowoc
UID:e.361.18103
SEQUENCE:3
DTSTAMP:20260420T004018Z
URL:https://business.chambermanitowoccounty.org/events/details/breakfast-with-santa-12-03-2022-18103
END:VEVENT

END:VCALENDAR
