BEGIN:VCALENDAR
VERSION:2.0
PRODID:-//ChamberMaster//Event Calendar 2.0//EN
METHOD:PUBLISH
X-PUBLISHED-TTL:P3D
REFRESH-INTERVAL:P3D
CALSCALE:GREGORIAN
BEGIN:VEVENT
DTSTART:20211107T003000Z
DTEND:20211107T023000Z
X-MICROSOFT-CDO-ALLDAYEVENT:FALSE
SUMMARY:BritBeat: A Tribute to the Beatles
DESCRIPTION:BritBeat - 'A Multimedia Concert Journey Through Beatles Music History' tells the story of the Beatles from their early days at the Cavern Club in Liverpool\, their dynamic debut on the Ed Sullivan Show\, the attendance busting concert at Shea Stadium\, onward to the psychedelic Sgt. Pepper era and finally the later years of Abbey Road and the White Album. The entire concert plays to the backdrop of immersive and captivating moving multimedia that intertwines with the moods and emotions of the Beatles' iconic music catalog. The show progresses through Beatles music history from its beginnings\, to its ultimate end in 1969\, with dynamic set changes and multiple costume changes. The constantly evolving show is designed to evoke the excitement and passion of the Beatles influence on the shapes and sounds of the 1960s. The show is fun\, thought provoking\, energized and a captivating journey of the Beatles evolution and impact on pop culture in the turbulent sixties.
X-ALT-DESC;FMTTYPE=text/html:BritBeat - &#39\;A Multimedia Concert Journey Through Beatles Music History&#39\; tells the story of the Beatles from their early days at the Cavern Club in Liverpool\, their dynamic debut on the Ed Sullivan Show\, the attendance busting concert at Shea Stadium\, onward to the psychedelic Sgt. Pepper era and finally the later years of Abbey Road and the White Album. The entire concert plays to the backdrop of immersive and captivating moving multimedia that intertwines with the moods and emotions of the Beatles&rsquo\; iconic music catalog. The show progresses through Beatles music history from its beginnings\, to its ultimate end in 1969\, with dynamic set changes and multiple costume changes. The constantly evolving show is designed to evoke the excitement and passion of the Beatles influence on the shapes and sounds of the 1960s. The show is fun\, thought provoking\, energized and a captivating journey of the Beatles evolution and impact on pop culture in the turbulent sixties.
LOCATION:Weill Center
UID:e.361.16926
SEQUENCE:3
DTSTAMP:20260422T195123Z
URL:https://business.chambermanitowoccounty.org/events/details/britbeat-a-tribute-to-the-beatles-16926
END:VEVENT

END:VCALENDAR
