BEGIN:VCALENDAR
VERSION:2.0
PRODID:-//ChamberMaster//Event Calendar 2.0//EN
METHOD:PUBLISH
X-PUBLISHED-TTL:P3D
REFRESH-INTERVAL:P3D
CALSCALE:GREGORIAN
BEGIN:VEVENT
DTSTART:20210717T000000Z
DTEND:20210717T020000Z
X-MICROSOFT-CDO-ALLDAYEVENT:FALSE
SUMMARY:Brittany's School of Dance
DESCRIPTION:It's Christmas in July! Based on the traditional Nutcracker Ballet\, Brittany's School of Dance Ballet Company is back this summer to perform the "usually" Christmas holiday classic. With a little twist of summer sprinkled throughout the show\, the ballet is performed by students of the dance studio ranging from ages 4 through 18 - with guest adult actors and dancers to round out the cast. With classical ballet\, and a little bit of jazz\, the story comes to life on stage... Full of colorful costumes\, beautiful backdrops\, and creative props there is something for everyone. Directed by sisters\, Brittany Thomas and Harmony Wusterbarth\, this family friendly event is enjoyable for all ages! Doors open 1 hour prior to the show. No refunds\, exchanges or weather cancellations. We are not affiliated with any secondary ticket markets. Masks encouraged.
X-ALT-DESC;FMTTYPE=text/html:It&#39\;s Christmas in July! Based on the traditional Nutcracker Ballet\, Brittany&#39\;s School of Dance Ballet Company is back this summer to perform the &quot\;usually&quot\; Christmas holiday classic. With a little twist of summer sprinkled throughout the show\, the ballet is performed by students of the dance studio ranging from ages 4 through 18 - with guest adult actors and dancers to round out the cast. With classical ballet\, and a little bit of jazz\, the story comes to life on stage... Full of colorful costumes\, beautiful backdrops\, and creative props there is something for everyone. Directed by sisters\, Brittany Thomas and Harmony Wusterbarth\, this family friendly event is enjoyable for all ages! Doors open 1 hour prior to the show. No refunds\, exchanges or weather cancellations. We are not affiliated with any secondary ticket markets. Masks encouraged.
LOCATION:Weill Center
UID:e.361.16454
SEQUENCE:3
DTSTAMP:20260424T121500Z
URL:https://business.chambermanitowoccounty.org/events/details/brittany-s-school-of-dance-16454
END:VEVENT

END:VCALENDAR
