BEGIN:VCALENDAR
VERSION:2.0
PRODID:-//ChamberMaster//Event Calendar 2.0//EN
METHOD:PUBLISH
X-PUBLISHED-TTL:P3D
REFRESH-INTERVAL:P3D
CALSCALE:GREGORIAN
BEGIN:VEVENT
DTSTART:20080812T220000Z
DTEND:20080813T000000Z
X-MICROSOFT-CDO-ALLDAYEVENT:FALSE
SUMMARY:Business After Hours
DESCRIPTION:Business After Hours Click Here To View Event Flyer
X-ALT-DESC;FMTTYPE=text/html:<div>Business After Hours</div><div>&nbsp\;</div><div><a href="https://secure.chambermaster.com/FCKeditor/UserFiles/chambers/361/File/August%2008%20G's%20Catering.pdf">Click Here To View Event Flyer</a></div>
LOCATION:G's Catering1306 Washington StreetManitowoc
UID:e.361.163
SEQUENCE:3
DTSTAMP:20260422T034048Z
URL:https://business.chambermanitowoccounty.org/events/details/business-after-hours-08-12-2008-163
END:VEVENT

END:VCALENDAR
