BEGIN:VCALENDAR
VERSION:2.0
PRODID:-//ChamberMaster//Event Calendar 2.0//EN
METHOD:PUBLISH
X-PUBLISHED-TTL:P3D
REFRESH-INTERVAL:P3D
CALSCALE:GREGORIAN
BEGIN:VEVENT
DTSTART:20230622T213000Z
DTEND:20230622T233000Z
X-MICROSOFT-CDO-ALLDAYEVENT:FALSE
SUMMARY:Business After Hours at BayCare Clinic Lakeside Campus
DESCRIPTION:Stop out\, learn more about our facility and the services our providers offer.\n\nFood and refreshments catered by Maretti's Italian Deli and Hartman's Bakery\n\n\n\nEvent runs from 4:30 to 6:30pm with guided tours taking place from 5:30 - 6:30pm\n\n\n\nRSVP by email to events@baycare.net
X-ALT-DESC;FMTTYPE=text/html:<br />\nStop out\, learn more about our facility and the services our providers offer.<br />\nFood and refreshments catered by Maretti&rsquo\;s Italian Deli and Hartman&rsquo\;s Bakery<br />\n<br />\nEvent runs from 4:30 to 6:30pm with guided tours taking place from 5:30 - 6:30pm<br />\n<br />\n<em><span style="font-size:22px\;">RSVP by email to <a href="mailto:events@baycare.net?subject=Business%20After%20Hours%20RSVP">events@baycare.net</a>&nbsp\;</span></em>
LOCATION:BayCare Clinic Lakeside Campus 1111 Bayshore Drive Manitowoc\, WI 54220
UID:e.361.18903
SEQUENCE:3
DTSTAMP:20260419T162412Z
URL:https://business.chambermanitowoccounty.org/events/details/business-after-hours-at-baycare-clinic-lakeside-campus-18903
END:VEVENT

END:VCALENDAR
