BEGIN:VCALENDAR
VERSION:2.0
PRODID:-//ChamberMaster//Event Calendar 2.0//EN
METHOD:PUBLISH
X-PUBLISHED-TTL:P3D
REFRESH-INTERVAL:P3D
CALSCALE:GREGORIAN
BEGIN:VEVENT
DTSTART:20221114T180000Z
DTEND:20221114T190000Z
X-MICROSOFT-CDO-ALLDAYEVENT:FALSE
SUMMARY:Business Connects Webinar: City of Two Rivers Budget Update
DESCRIPTION:Join us for an update from Two Rivers City Manager Greg Buckley. Buckley will provide budget highlights as well as general updates as it pertains to governmental business in Manitowoc County. \n\n\n\nBusiness Connects with Government is the perfect opportunity to stay abreast of issues at the local\, state and federal levels of government. Both elected and government officials are invited to attend to provide Chamber members with an update from their respective areas of representation.\n\n\n\nBusiness Connects with Government events provide a venue to inform and educate our community by hosting speakers on topics important to our members. Opinions expressed by speakers do not necessarily reflect the position of The Chamber of Manitowoc County or its members.
X-ALT-DESC;FMTTYPE=text/html:Join us for an update from Two Rivers City Manager Greg Buckley. Buckley will provide budget highlights as well as general updates as it pertains to governmental business in Manitowoc County.&nbsp\;<br />\n<br />\nBusiness Connects with Government is the perfect opportunity to stay abreast of issues at the local\, state and federal levels of government. Both elected and government officials are invited to attend to provide Chamber members with an update from their respective areas of representation.<br />\n<br />\nBusiness Connects with Government events provide a venue to inform and educate our community by hosting speakers on topics important to our members. Opinions expressed by speakers do not necessarily reflect the position of The Chamber of Manitowoc County or its members.<br />\n&nbsp\;
LOCATION:Via Zoom (You will receive Zoom link in registration confirmation email)
UID:e.361.18060
SEQUENCE:3
DTSTAMP:20260420T021516Z
URL:https://business.chambermanitowoccounty.org/events/details/business-connects-webinar-city-of-two-rivers-budget-update-18060
END:VEVENT

END:VCALENDAR
