BEGIN:VCALENDAR
VERSION:2.0
PRODID:-//ChamberMaster//Event Calendar 2.0//EN
METHOD:PUBLISH
X-PUBLISHED-TTL:P3D
REFRESH-INTERVAL:P3D
CALSCALE:GREGORIAN
BEGIN:VEVENT
DTSTART:20210429T170000Z
DTEND:20210429T180000Z
X-MICROSOFT-CDO-ALLDAYEVENT:FALSE
SUMMARY:Business Connects with Government
DESCRIPTION:Nonprofits Reimagined: How our community and government can support local organizations beyond the Pandemic\n\n\n\nThe Chamber of Manitowoc County's April Business Connects with Government event will focus on some of our local non-profit businesses including the Boys and Girls Club of Manitowoc County\, United Way Manitowoc County\, Big Brothers Big Sisters Shoreline\, and the Manitowoc-Two Rivers Y.  Our panel of representatives will share updates on their current status and needs while operating through the COVID-19 pandemic and what lies ahead into 2021-22. Attendees can gain insights in the challenges and how the community and government entities can support them moving forward. There will be a scheduled Q&A period after the updates for attendees to interact with the panel.\n\n \n\nPanel \n\nBill Bertsche\, Executive Director & Amy Townsend\, Board of Directors Co-Chair\; Boys and Girls Club of Manitowoc County\n\nAshley Bender\, Executive Director\, United Way Manitowoc County\n\nDenise Wittstock\, Big Brothers Big Sisters Shoreline\n\nJulie Grossman\, CEO\, Manitowoc-Two Rivers Y
X-ALT-DESC;FMTTYPE=text/html:<strong><span style="font-family:arial\;"><em><span style="color:#1F497D\;"><span style="font-size:11.0pt\;">Nonprofits Reimagined: How our community and government can support local organizations beyond the Pandemic</span></span></em></span></strong><br />\n<br />\nThe Chamber of Manitowoc County&rsquo\;s April Business Connects with Government event will focus on some of our local non-profit businesses including the Boys and Girls Club of Manitowoc County\, United Way Manitowoc County\, Big Brothers Big Sisters Shoreline\, and the Manitowoc-Two Rivers Y. &nbsp\;Our panel of representatives will share updates on their current status and needs while operating through the COVID-19 pandemic and what lies ahead into 2021-22. Attendees can gain insights in the challenges and how the community and government entities can support them moving forward. There will be a scheduled Q&amp\;A period after the updates for attendees to interact with the panel.<br />\n&nbsp\;<br />\n<strong><u>Panel </u></strong><br />\n<span style="font-size:12px\;">Bill Bertsche\, Executive Director &amp\; Amy Townsend\, Board of Directors Co-Chair\;&nbsp\;Boys and Girls Club of Manitowoc County<br />\nAshley Bender\, Executive Director\,&nbsp\;United Way Manitowoc County<br />\nDenise Wittstock\, Big Brothers Big Sisters Shoreline<br />\nJulie Grossman\, CEO\, Manitowoc-Two Rivers Y</span>
LOCATION:Zoom
UID:e.361.16149
SEQUENCE:3
DTSTAMP:20260424T164736Z
URL:https://business.chambermanitowoccounty.org/events/details/business-connects-with-government-16149
END:VEVENT

END:VCALENDAR
