BEGIN:VCALENDAR
VERSION:2.0
PRODID:-//ChamberMaster//Event Calendar 2.0//EN
METHOD:PUBLISH
X-PUBLISHED-TTL:P3D
REFRESH-INTERVAL:P3D
CALSCALE:GREGORIAN
BEGIN:VEVENT
DTSTART:20210622T170000Z
DTEND:20210622T180000Z
X-MICROSOFT-CDO-ALLDAYEVENT:FALSE
SUMMARY:Business Connects with Government - Agriculture Update
DESCRIPTION:Agriculture Update\n\nPresented by: Dave Coggins\, Executive VP   Chief Banking Officer\, Investors Community Bank\n\n\n\nJoin us for an Ag update on the following:\n\n	Dairy heading into 2021\n	Government support for ag in 2020\n	Covid impact\n	Current status of dairy for 2021\n	Longer term dairy outlook\n	Cash grain situation\n\nBusiness Connects with Government Luncheons provide a venue to inform and educate our community by hosting speakers on topics important to our members. Opinions expressed by speakers do not necessarily reflect the position of The Chamber of Manitowoc County or its members.
X-ALT-DESC;FMTTYPE=text/html:<em><span style="font-size: 14px\;"><span style="font-family: arial\;"><span style="font-size: 20px\;"><strong>Agriculture Update</strong></span><br />\nPresented by: Dave Coggins\,&nbsp\;</span></span><span style="font-family: arial\, sans-serif\;"><span style="font-size: 10pt\;">Executive VP &ndash\; Chief Banking Officer\, Investors Community Bank</span></span></em><br />\n<br />\n<span style="font-family: arial\, sans-serif\;"><span style="font-size: 10pt\;">Join us for an Ag update on the following:</span></span>\n<ul>\n	<li>Dairy heading into 2021</li>\n	<li>Government support for ag in 2020</li>\n	<li>Covid impact</li>\n	<li>Current status of dairy for 2021</li>\n	<li>Longer term dairy outlook</li>\n	<li>Cash grain situation</li>\n</ul>\n<span style="font-size: 14px\;"><span style="font-family: arial\;"><em>Business Connects with Government Luncheons provide a venue to inform and educate our community by hosting speakers on topics important to our members. Opinions expressed by speakers do not necessarily reflect the position of The Chamber of Manitowoc County or its members.</em></span></span>
LOCATION:Via Zoom
UID:e.361.16344
SEQUENCE:3
DTSTAMP:20260424T134911Z
URL:https://business.chambermanitowoccounty.org/events/details/business-connects-with-government-agriculture-update-16344
END:VEVENT

END:VCALENDAR
