BEGIN:VCALENDAR
VERSION:2.0
PRODID:-//ChamberMaster//Event Calendar 2.0//EN
METHOD:PUBLISH
X-PUBLISHED-TTL:P3D
REFRESH-INTERVAL:P3D
CALSCALE:GREGORIAN
BEGIN:VEVENT
DTSTART:20220627T170000Z
DTEND:20220627T180000Z
X-MICROSOFT-CDO-ALLDAYEVENT:FALSE
SUMMARY:Business Connects with Government: Agriculture Update
DESCRIPTION:Join us for an economic update from the world of agriculture from Dave Coggins\, SVP Ag Banking\, Nicolet National Bank.\n\n\n\nBusiness Connects with Government webinars provide a venue to inform and educate our community by hosting speakers on topics important to our members. Opinions expressed by speakers do not necessarily reflect the position of The Chamber of Manitowoc County or its members.
X-ALT-DESC;FMTTYPE=text/html:<strong>Join us for an economic update from the world of agriculture from Dave Coggins\, SVP Ag Banking\, Nicolet National Bank.</strong><br />\n<br />\n<em style="color: rgb(51\, 51\, 51)\; font-family: arial\; font-size: 14px\; background-color: rgb(255\, 255\, 255)\;">Business Connects with Government webinars provide a venue to inform and educate our community by hosting speakers on topics important to our members. Opinions expressed by speakers do not necessarily reflect the position of The Chamber of Manitowoc County or its members.</em>
LOCATION:https://us06web.zoom.us/j/82731820692
UID:e.361.17929
SEQUENCE:3
DTSTAMP:20260420T094101Z
URL:https://business.chambermanitowoccounty.org/events/details/business-connects-with-government-agriculture-update-17929
END:VEVENT

END:VCALENDAR
