BEGIN:VCALENDAR
VERSION:2.0
PRODID:-//ChamberMaster//Event Calendar 2.0//EN
METHOD:PUBLISH
X-PUBLISHED-TTL:P3D
REFRESH-INTERVAL:P3D
CALSCALE:GREGORIAN
BEGIN:VEVENT
DTSTART:20211101T170000Z
DTEND:20211101T180000Z
X-MICROSOFT-CDO-ALLDAYEVENT:FALSE
SUMMARY:Business Connects with Government - City of Manitowoc Update
DESCRIPTION:Join us for an update from Manitowoc Mayor Justin Nickels.  Mayor Nickels will provide budget highlights as well as general updates as it pertains to governmental business in the City of Manitowoc. \n\n\n\nBusiness Connects with Government is the perfect opportunity to stay abreast of issues at the local\, state and federal levels of government. Both elected and government officials are invited to attend to provide Chamber members with an update from their respective areas of representation.\n\n\n\nBusiness Connects with Government Luncheons provide a venue to inform and educate our community by hosting speakers on topics important to our members. Opinions expressed by speakers do not necessarily reflect the position of The Chamber of Manitowoc County or its members.
X-ALT-DESC;FMTTYPE=text/html:Join us for an update from Manitowoc Mayor Justin Nickels.&nbsp\; Mayor Nickels will provide budget highlights as well as general updates as it pertains to governmental business in the City of Manitowoc.&nbsp\;<br />\n<br />\nBusiness Connects with Government is the perfect opportunity to stay abreast of issues at the local\, state and federal levels of government. Both elected and government officials are invited to attend to provide Chamber members with an update from their respective areas of representation.<br />\n<br />\nBusiness Connects with Government Luncheons provide a venue to inform and educate our community by hosting speakers on topics important to our members. Opinions expressed by speakers do not necessarily reflect the position of The Chamber of Manitowoc County or its members.
LOCATION:Via Zoom
UID:e.361.16993
SEQUENCE:3
DTSTAMP:20260422T195530Z
URL:https://business.chambermanitowoccounty.org/events/details/business-connects-with-government-city-of-manitowoc-update-16993
END:VEVENT

END:VCALENDAR
