BEGIN:VCALENDAR
VERSION:2.0
PRODID:-//ChamberMaster//Event Calendar 2.0//EN
METHOD:PUBLISH
X-PUBLISHED-TTL:P3D
REFRESH-INTERVAL:P3D
CALSCALE:GREGORIAN
BEGIN:VEVENT
DTSTART:20200922T170000Z
DTEND:20200922T180000Z
X-MICROSOFT-CDO-ALLDAYEVENT:FALSE
SUMMARY:Business Connects with Government: Covid's Impact on Mental Health in Manitowoc County
DESCRIPTION:A panel discussion will share data and discuss trends in Manitowoc County in terms of substance use disorders and/or mental health\, as it relates to the effects of the Covid-19 pandemic.  Panelists are also asking for your questions and feedback in advance of this forum\, so that they can cover any issues the business community may be facing and tailor their discussion.  \n\n \nClick here to Submit a Question and/or Feedback\n\n \n\nPanelists include:\n\n \n\nDonna Firman\, Prevent Suicide Manitowoc County\n\nRachel Fruin\, Holy Family Memorial\n\nChris Gilbert\, Core Treatment Services\n\nPamela Masci\, Advocate Aurora Health\n\nChristma Rusch\, Lighthouse Recovery Community Center\n\nJennifer Schmoldt\, Painting Pathways Clubhouse\n\n \n\n\nBusiness Connects with Government Luncheons provide a venue to inform and educate our community by hosting speakers on topics important to our members. Opinions expressed by speakers do not necessarily reflect the position of The Chamber of Manitowoc County or its members.
X-ALT-DESC;FMTTYPE=text/html:<span style="color:#333333\;">A panel discussion<span style="font-family:arial\,sans-serif\;">&nbsp\;will <span style="background:white\;">share data and discuss trends in Manitowoc County in terms of substance use disorders and/or mental health\, as it relates to the effects of the Covid-19 pandemic.&nbsp\;&nbsp\;</span></span></span><span style="background:white\;"><span style="color:#333333\;"><span style="font-family:arial\,sans-serif\;">Panelists are also asking for your questions and feedback in advance of this forum\, so that they can cover any issues the business community may be facing and tailor their discussion.&nbsp\; </span></span></span><br />\n&nbsp\;\n<div style="margin-left: 40px\;"><a href="https://www.surveymonkey.com/r/GJ9GMM7"><span style="font-size:16px\;"><strong><span style="background:white\;"><span style="color:#333333\;"><span style="font-family:arial\,sans-serif\;"><u>Click here to Submit a Question and/or Feedback</u></span></span></span></strong></span></a><br />\n&nbsp\;</div>\n\n<div><span style="background:white\;"><span style="color:#232333\;"><span style="font-family:arial\,sans-serif\;">Panelists include:</span></span></span><br />\n&nbsp\;<br />\n<span style="background:white\;"><span style="color:#232333\;"><span style="font-family:arial\,sans-serif\;">Donna Firman\, Prevent Suicide Manitowoc County</span></span></span><br />\n<span style="color:#232333\;"><span style="font-family:arial\,sans-serif\;"><span style="background:white\;">Rachel Fruin\, Holy Family Memorial</span></span></span><br />\n<span style="background:white\;"><span style="color:#232333\;"><span style="font-family:arial\,sans-serif\;">Chris Gilbert\, Core Treatment Services</span></span></span><br />\n<span style="background:white\;"><span style="color:#232333\;"><span style="font-family:arial\,sans-serif\;">Pamela Masci\, Advocate Aurora Health</span></span></span><br />\n<span style="background:white\;"><span style="color:#232333\;"><span style="font-family:arial\,sans-serif\;">Christma Rusch\, Lighthouse Recovery Community Center</span></span></span><br />\n<span style="background:white\;"><span style="color:#232333\;"><span style="font-family:arial\,sans-serif\;">Jennifer Schmoldt\, Painting Pathways Clubhouse</span></span></span><br />\n&nbsp\;</div>\n<br />\n<em><span style="background:white\;"><span style="color:#333333\;"><span style="font-family:arial\,sans-serif\;">Business Connects with Government Luncheons provide a venue to inform and educate our community by hosting speakers on topics important to our members. Opinions expressed by speakers do not necessarily reflect the position of The Chamber of Manitowoc County or its members.</span></span></span></em>\n\n<div>&nbsp\;</div>\n
LOCATION:Via Zoom: https://zoom.us/j/91392346513
UID:e.361.15600
SEQUENCE:3
DTSTAMP:20260425T005052Z
URL:https://business.chambermanitowoccounty.org/events/details/business-connects-with-government-covid-s-impact-on-mental-health-in-manitowoc-county-15600
END:VEVENT

END:VCALENDAR
