BEGIN:VCALENDAR
VERSION:2.0
PRODID:-//ChamberMaster//Event Calendar 2.0//EN
METHOD:PUBLISH
X-PUBLISHED-TTL:P3D
REFRESH-INTERVAL:P3D
CALSCALE:GREGORIAN
BEGIN:VEVENT
DTSTART:20220516T170000Z
DTEND:20220516T180000Z
X-MICROSOFT-CDO-ALLDAYEVENT:FALSE
SUMMARY:Business Connects with Government: Immigration
DESCRIPTION:Presentation on Immigration\n\nPresented by:  Attorney Carrie Ziegler-Thomas\, Michael Best\n\n\n\nRecent workforce shortages have resulted in fierce competition for workers in Wisconsin and nationwide. This presentation will discuss how work visas can be a valuable tool for companies to increase competitiveness and support growth. We will discuss the basics of employment-sponsored immigration and considerations for employers looking to wade into sponsorship\, as well as recent trends and best practices.\n\n\n\nBusiness Connects with Government events provide a venue to inform and educate our community by hosting speakers on topics important to our members. Opinions expressed by speakers do not necessarily reflect the position of The Chamber of Manitowoc County or its members.
X-ALT-DESC;FMTTYPE=text/html:Presentation on Immigration<br />\nPresented by:&nbsp\; Attorney Carrie Ziegler-Thomas\, Michael Best<br />\n<br />\nRecent workforce shortages have resulted in fierce competition for workers in Wisconsin and nationwide. This presentation will discuss how work visas can be a valuable tool for companies to increase competitiveness and support growth. We will discuss the basics of employment-sponsored immigration and considerations for employers looking to wade into sponsorship\, as well as recent trends and best practices.<br />\n<br />\n<em>Business Connects with Government events provide a venue to inform and educate our community by hosting speakers on topics important to our members. Opinions expressed by speakers do not necessarily reflect the position of The Chamber of Manitowoc County or its members.</em><br />\n<br />\n&nbsp\;
LOCATION:Zoom Webinar (You will receive Zoom webinar link in registration confirmation email.)
UID:e.361.17901
SEQUENCE:3
DTSTAMP:20260422T114324Z
URL:https://business.chambermanitowoccounty.org/events/details/business-connects-with-government-immigration-17901
END:VEVENT

END:VCALENDAR
