BEGIN:VCALENDAR
VERSION:2.0
PRODID:-//ChamberMaster//Event Calendar 2.0//EN
METHOD:PUBLISH
X-PUBLISHED-TTL:P3D
REFRESH-INTERVAL:P3D
CALSCALE:GREGORIAN
BEGIN:VEVENT
DTSTART:20190114T180000Z
DTEND:20190114T190000Z
X-MICROSOFT-CDO-ALLDAYEVENT:FALSE
SUMMARY:Business Connects with Government Luncheon
DESCRIPTION:Updates from Government Officials\n\nAs we welcome the new year\, we have extended an invitation to all local officials to provide an update from their respective areas at the January 14 Business Connects with Government luncheon.  Hear about what is planned for 2019\, as well as officials will take questions from the audience. \n\n \nConfirmed officials (as of 1-10-2018):\n\nRepresentative from Senator Tammy Baldwin's office\n\nRepresentative from Senator Ron Johnson's office\n\nRepresentative from Congressman Glenn Grothman's office\n\nState Senator Devin LeMahieu\n\nState Representative Paul Tittl\n\nManitowoc County Executive Bob Ziegelbauer\n\nManitowoc Mayor Justin Nickels\n\nTwo Rivers City Manager Greg Buckley\n\n \n\nBusiness Connects with Government Luncheons provide a venue to inform and educate our community by hosting speakers on topics important to our members. Opinions expressed by speakers do not necessarily reflect the position of The Chamber of Manitowoc County or its members.
X-ALT-DESC;FMTTYPE=text/html:<br />\n<em><strong>Updates from Government Officials</strong><br />\nAs we&nbsp\;welcome the new year\, we have extended an invitation to all local officials to provide an update from their respective areas at the January 14 Business Connects with Government luncheon.&nbsp\; Hear about what is planned for 2019\, as well as officials will take questions from the audience.&nbsp\;</em><br />\n&nbsp\;\n<div style="text-align: center\;"><em><strong>Confirmed officials (as of 1-10-2018):</strong><br />\nRepresentative from Senator Tammy Baldwin&#39\;s office<br />\nRepresentative from Senator Ron Johnson&#39\;s office<br />\nRepresentative from Congressman Glenn Grothman&#39\;s office<br />\nState Senator Devin LeMahieu<br />\nState Representative Paul Tittl<br />\nManitowoc County Executive Bob Ziegelbauer</em></div>\n\n<div style="text-align: center\;"><em>Manitowoc Mayor Justin Nickels</em><br />\n<em style="text-align: center\;">Two Rivers City Manager Greg Buckley</em></div>\n\n<div style="margin-left: 40px\; text-align: center\;">&nbsp\;</div>\n\n<div><em>Business Connects with Government Luncheons provide a venue to inform and educate our community by hosting speakers on topics important to our members. Opinions expressed by speakers do not necessarily reflect the position of The Chamber of Manitowoc County or its members.</em></div>\n
LOCATION:Lighthouse Inn on Lake Michigan 1515 Memorial Dr. Two Rivers
UID:e.361.13727
SEQUENCE:3
DTSTAMP:20260426T010852Z
URL:https://business.chambermanitowoccounty.org/events/details/business-connects-with-government-luncheon-13727
END:VEVENT

END:VCALENDAR
