BEGIN:VCALENDAR
VERSION:2.0
PRODID:-//ChamberMaster//Event Calendar 2.0//EN
METHOD:PUBLISH
X-PUBLISHED-TTL:P3D
REFRESH-INTERVAL:P3D
CALSCALE:GREGORIAN
BEGIN:VEVENT
DTSTART:20190805T170000Z
DTEND:20190805T183000Z
X-MICROSOFT-CDO-ALLDAYEVENT:FALSE
SUMMARY:Business Connects with Government Luncheon
DESCRIPTION:Updates from Local Officials\n\n\n\nBusiness Connects with Government is the perfect opportunity to stay abreast of issues at the local\, state and federal levels of government. Both elected and government officials are invited to attend to provide Chamber members with an update from their respective areas of representation.\n    Confirmed Officials (as of 8-1-19)\n\nState Senator Devin LeMahieu\n\nSenator Andrea Jacque\n\nRepresentative from Senator Ron Johnson's office\n\nCongressman Glenn Grothman\n\nState Representative Shae Sortwell\n\nManitowoc County Executive Bob Ziegelbauer\n\nManitowoc Mayor Justin Nickels\n\nTwo Rivers City Manager Greg Buckley\n\n\nBusiness Connects with Government Luncheons provide a venue to inform and educate our community by hosting speakers on topics important to our members. Opinions expressed by speakers do not necessarily reflect the position of The Chamber of Manitowoc County or its members.
X-ALT-DESC;FMTTYPE=text/html:<strong>Updates from Local Officials</strong><br />\n<br />\nBusiness Connects with Government is the perfect opportunity to stay abreast of issues at the local\, state and federal levels of government. Both elected and government officials are invited to attend to provide Chamber members with an update from their respective areas of representation.\n<div style="text-align: center\;">&nbsp\; &nbsp\; Confirmed Officials (as of 8-1-19)<br />\nState Senator Devin LeMahieu<br />\nSenator Andrea Jacque<br />\nRepresentative from Senator Ron Johnson&#39\;s office<br />\nCongressman Glenn Grothman<br />\nState Representative Shae Sortwell<br />\nManitowoc County Executive Bob Ziegelbauer<br />\nManitowoc Mayor Justin Nickels<br />\nTwo Rivers City Manager Greg Buckley</div>\n<br />\nBusiness Connects with Government Luncheons provide a venue to inform and educate our community by hosting speakers on topics important to our members. Opinions expressed by speakers do not necessarily reflect the position of The Chamber of Manitowoc County or its members.
LOCATION:Lighthouse Inn on Lake Michigan 1515 Memorial Dr. Two Rivers
UID:e.361.14125
SEQUENCE:3
DTSTAMP:20260425T170312Z
URL:https://business.chambermanitowoccounty.org/events/details/business-connects-with-government-luncheon-14125
END:VEVENT

END:VCALENDAR
