BEGIN:VCALENDAR
VERSION:2.0
PRODID:-//ChamberMaster//Event Calendar 2.0//EN
METHOD:PUBLISH
X-PUBLISHED-TTL:P3D
REFRESH-INTERVAL:P3D
CALSCALE:GREGORIAN
BEGIN:VEVENT
DTSTART:20190603T170000Z
DTEND:20190603T180000Z
X-MICROSOFT-CDO-ALLDAYEVENT:FALSE
SUMMARY:Business Connects with Government Luncheon - Agriculture Update
DESCRIPTION:Agriculture Update\n\nPresented by:  Dave Coggins\, Investors Community Bank\n\n\n\nDave will provide an update on the following agricultural topics:\n\n	Overview of the current state of the dairy industry\n	Milk prices-current and outlook\n	Industrial Hemp \n	Immigration issues for agriculture\n	Robotic milkers\n\n\n\nUpdates from local government officials\, and an update on the Manitowoc County Fair\, will follow the Agrilcuture Update presentation.\n\n\n\nBusiness Connects with Government is the perfect opportunity to stay abreast of issues at the local\, state and federal levels of government. Both elected and government officials are invited to attend to provide Chamber members with an update from their respective areas of representation.\n\n\n\nBusiness Connects with Government Luncheons provide a venue to inform and educate our community by hosting speakers on topics important to our members. Opinions expressed by speakers do not necessarily reflect the position of The Chamber of Manitowoc County or its members.
X-ALT-DESC;FMTTYPE=text/html:<span style="color:#000000\;"><strong>Agriculture Update</strong><br />\nPresented by:&nbsp\; Dave Coggins\, Investors Community Bank<br />\n<br />\nDave will provide an update on the following agricultural topics:</span>\n<ul>\n	<li><span style="color:#000000\;">Overview of the current state of the dairy industry</span></li>\n	<li><span style="color:#000000\;">Milk prices-current and outlook</span></li>\n	<li><span style="color:#000000\;">Industrial Hemp </span></li>\n	<li><span style="color:#000000\;">Immigration issues for agriculture</span></li>\n	<li><span style="color:#000000\;">Robotic milkers</span></li>\n</ul>\n<br />\n<span style="color:#000000\;">Updates from local government officials\, and an update on the Manitowoc County Fair\, will follow the Agrilcuture Update presentation.<br />\n<br />\n<em>Business Connects with Government is the perfect opportunity to stay abreast of issues at the local\, state and federal levels of government. Both elected and government officials are invited to attend to provide Chamber members with an update from their respective areas of representation.<br />\n<br />\nBusiness Connects with Government Luncheons provide a venue to inform and educate our community by hosting speakers on topics important to our members. Opinions expressed by speakers do not necessarily reflect the position of The Chamber of Manitowoc County or its members.</em></span>
LOCATION:Farm Wisconsin Discovery Center Conference Center - South 7001 Gass Lake Rd Manitowoc\, WI
UID:e.361.14124
SEQUENCE:3
DTSTAMP:20260425T193543Z
URL:https://business.chambermanitowoccounty.org/events/details/business-connects-with-government-luncheon-agriculture-update-14124
END:VEVENT

END:VCALENDAR
