BEGIN:VCALENDAR
VERSION:2.0
PRODID:-//ChamberMaster//Event Calendar 2.0//EN
METHOD:PUBLISH
X-PUBLISHED-TTL:P3D
REFRESH-INTERVAL:P3D
CALSCALE:GREGORIAN
BEGIN:VEVENT
DTSTART:20190909T170000Z
DTEND:20190909T183000Z
X-MICROSOFT-CDO-ALLDAYEVENT:FALSE
SUMMARY:Business Connects with Government Luncheon - CBD: A Natural Cure-All or Just a Fad?
DESCRIPTION:CBD:  A Natural Cure-All or Just a Fad?\n\nPresented by Marvin Moore\, PharmD - Owner of The Medicine Shoppe\, Two Rivers\n\nMarv will present on the following topics:\n\n	Overview of CBD\n	Potential Benefits and Risks of CBD\n	Comparison of CBD products\n	Tips for deciding whether CBD is right for you\n\n\nBusiness Connects with Government is the perfect opportunity to stay abreast of issues at the local\, state and federal levels of government. Both elected and government officials are invited to attend to provide Chamber members with an update from their respective areas of representation.\n\n\n\nBusiness Connects with Government Luncheons provide a venue to inform and educate our community by hosting speakers on topics important to our members. Opinions expressed by speakers do not necessarily reflect the position of The Chamber of Manitowoc County or its members.
X-ALT-DESC;FMTTYPE=text/html:<span style="color:black\;"><span style="font-family:calibri\,sans-serif\;">CBD:&nbsp\; A Natural Cure-All or Just a Fad?</span></span><br />\n<span style="color:black\;"><span style="font-family:calibri\,sans-serif\;">Presented by Marvin Moore\, PharmD - Owner of The Medicine Shoppe\, Two Rivers</span></span><br />\n<span style="color:black\;"><span style="font-family:calibri\,sans-serif\;">Marv will present on the following topics:</span></span>\n<ul>\n	<li style="color:black\;"><span style="font-family:calibri\,sans-serif\;">Overview of CBD</span></li>\n	<li style="color:black\;"><span style="font-family:calibri\,sans-serif\;">Potential Benefits and Risks of CBD</span></li>\n	<li style="color:black\;"><span style="font-family:calibri\,sans-serif\;">Comparison of CBD products</span></li>\n	<li style="color:black\;"><span style="font-family:calibri\,sans-serif\;">Tips for deciding whether CBD is right for you</span></li>\n</ul>\n\n<div style="color:black\;"><em>Business Connects with Government is the perfect opportunity to stay abreast of issues at the local\, state and federal levels of government. Both elected and government officials are invited to attend to provide Chamber members with an update from their respective areas of representation.<br />\n<br />\nBusiness Connects with Government Luncheons provide a venue to inform and educate our community by hosting speakers on topics important to our members. Opinions expressed by speakers do not necessarily reflect the position of The Chamber of Manitowoc County or its members.</em></div>\n
LOCATION:Manitowoc Public Library Balkansky Community Room AB 707 Quay Street Manitowoc
UID:e.361.14419
SEQUENCE:3
DTSTAMP:20260425T155815Z
URL:https://business.chambermanitowoccounty.org/events/details/business-connects-with-government-luncheon-cbd-a-natural-cure-all-or-just-a-fad-14419
END:VEVENT

END:VCALENDAR
