BEGIN:VCALENDAR
VERSION:2.0
PRODID:-//ChamberMaster//Event Calendar 2.0//EN
METHOD:PUBLISH
X-PUBLISHED-TTL:P3D
REFRESH-INTERVAL:P3D
CALSCALE:GREGORIAN
BEGIN:VEVENT
DTSTART:20190304T180000Z
DTEND:20190304T190000Z
X-MICROSOFT-CDO-ALLDAYEVENT:FALSE
SUMMARY:Business Connects with Government Luncheon - Downtown Updates
DESCRIPTION:What's going on in Downtown?  A lot!  Join us at the March Business Connects with Government Luncheon to get the scoop on business development updates Downtown.   Business owners/investors that have projects Downtown  will be on hand to provide an update on their projects\, as well as answer questions from the audience.  Updates on projects include:\n\n \nScheutte Building Renovations\, Anton Doneff\n\nStrand Adventures\, Mike Howe\n\nLTC Manitowoc relocation to Downtown Manitowoc\, Jim Lemerond\, VP of Instruction \n\nCaptiol Civic Centre Rennovation Project\, Matt Schliesman\n\n\n...and more to be announced.\n\n\n\nUpdates from government officials will follow the Business Updates\, time permitting.\n\n\n\nBusiness Connects with Government Luncheons provide a venue to inform and educate our community by hosting speakers on topics important to our members. Opinions expressed by speakers do not necessarily reflect the position of The Chamber of Manitowoc County or its members.
X-ALT-DESC;FMTTYPE=text/html:<p><span style="font-size:12px\;"><span style="font-family:arial\;"><em><strong>What&#39\;s going on in Downtown?&nbsp\; </strong></em>A lot!&nbsp\; Join us at the March Business Connects with Government Luncheon to get the scoop on business development updates&nbsp\;Downtown.&nbsp\; &nbsp\;Business owners/investors that have projects Downtown&nbsp\; will be on hand to provide an update on their projects\, as well as answer questions from the audience.&nbsp\; Updates on projects include:</span></span><br />\n&nbsp\;</p>\nScheutte Building Renovations\, Anton Doneff<br />\nStrand Adventures\, Mike Howe<br />\nLTC Manitowoc relocation to Downtown Manitowoc\,&nbsp\;Jim Lemerond\, VP of Instruction&nbsp\;<br />\nCaptiol Civic Centre Rennovation Project\, Matt Schliesman\n<p><br />\n<span style="font-size:12px\;"><span style="font-family:arial\;">...and more to be announced.<br />\n<br />\nUpdates from government officials will follow the Business Updates\, time permitting.<br />\n<br />\nBusiness Connects with Government Luncheons provide a venue to inform and educate our community by hosting speakers on topics important to our members. Opinions expressed by speakers do not necessarily reflect the position of The Chamber of Manitowoc County or its members.</span></span></p>\n
LOCATION:Holiday Inn 4601 Calumet Ave. Manitowoc
UID:e.361.13796
SEQUENCE:3
DTSTAMP:20260425T225526Z
URL:https://business.chambermanitowoccounty.org/events/details/business-connects-with-government-luncheon-downtown-updates-13796
END:VEVENT

END:VCALENDAR
