BEGIN:VCALENDAR
VERSION:2.0
PRODID:-//ChamberMaster//Event Calendar 2.0//EN
METHOD:PUBLISH
X-PUBLISHED-TTL:P3D
REFRESH-INTERVAL:P3D
CALSCALE:GREGORIAN
BEGIN:VEVENT
DTSTART:20190401T170000Z
DTEND:20190401T180000Z
X-MICROSOFT-CDO-ALLDAYEVENT:FALSE
SUMMARY:Business Connects with Government Luncheon - Exclusive Tour
DESCRIPTION:Registration is closed. \n\n\n\nThe April Business Connects with Government lunch will not only feature updates from local officials\, but will include an exclusive tour of Strand Adventures\, which was one of the featured updates at the March Business Connects with Government.  \n\n\n\nBusiness Connects with Government is the perfect opportunity to stay abreast of issues at the local\, state and federal levels of government. Both elected and government officials are invited to attend to provide Chamber members with an update from their respective areas of representation.\n\n\n\nBusiness Connects with Government Luncheons provide a venue to inform and educate our community by hosting speakers on topics important to our members. Opinions expressed by speakers do not necessarily reflect the position of The Chamber of Manitowoc County or its members.
X-ALT-DESC;FMTTYPE=text/html:<em><strong>Registration is closed.&nbsp\;</strong></em><br />\n<br />\nThe April Business Connects with Government lunch will not only feature updates from local officials\, but will include an exclusive tour of Strand Adventures\, which was one of the featured updates at the March Business Connects with Government.&nbsp\;&nbsp\;<br />\n<br />\nBusiness Connects with Government is the perfect opportunity to stay abreast of issues at the local\, state and federal levels of government. Both elected and government officials are invited to attend to provide Chamber members with an update from their respective areas of representation.<br />\n<br />\nBusiness Connects with Government Luncheons provide a venue to inform and educate our community by hosting speakers on topics important to our members. Opinions expressed by speakers do not necessarily reflect the position of The Chamber of Manitowoc County or its members.<br />\n&nbsp\;
LOCATION:Strand Adventures 315 N 8th St Manitowoc Enter through double doors in the Chicago Street Parking lot.
UID:e.361.14100
SEQUENCE:3
DTSTAMP:20260425T230051Z
URL:https://business.chambermanitowoccounty.org/events/details/business-connects-with-government-luncheon-exclusive-tour-14100
END:VEVENT

END:VCALENDAR
