BEGIN:VCALENDAR
VERSION:2.0
PRODID:-//ChamberMaster//Event Calendar 2.0//EN
METHOD:PUBLISH
X-PUBLISHED-TTL:P3D
REFRESH-INTERVAL:P3D
CALSCALE:GREGORIAN
BEGIN:VEVENT
DTSTART:20191007T170000Z
DTEND:20191007T183000Z
X-MICROSOFT-CDO-ALLDAYEVENT:FALSE
SUMMARY:Business Connects with Government Luncheon - Manufacturing Updates
DESCRIPTION:October is Manufacturing Month\n\nJoin us for updates from local manufacturers to hear about their growth\, expansions and projects happening in Manitowoc County. Hear updates from:\n\n\n\nConfirmed Presenting Manufacturers as of 10/1/2019:\n\nRyan O'Toole\, Briess Malt & Ingredients Co.   Manitowoc\n\nMark Crass/Greg Jones\, Kerry (Red Arrow Products)\n\nGlen Tellock\, Lakeside Foods\n\n...check back as this list grows!\n\n\n\nUpdates from local government officials will follow the manufacturing updates. \n\n\n\nBusiness Connects with Government is the perfect opportunity to stay abreast of issues at the local\, state and federal levels of government. Both elected and government officials are invited to attend to provide Chamber members with an update from their respective areas of representation.\n\n\n\nBusiness Connects with Government Luncheons provide a venue to inform and educate our community by hosting speakers on topics important to our members. Opinions expressed by speakers do not necessarily reflect the position of The Chamber of Manitowoc County or its members.
X-ALT-DESC;FMTTYPE=text/html:<span style="font-size:20px\;"><span style="color:#FF8C00\;"><strong>October is Manufacturing Month</strong></span></span><br />\nJoin us for updates from local manufacturers to hear about their growth\, expansions and projects happening in Manitowoc County. Hear updates from:<br />\n<br />\n<u><strong>Confirmed Presenting Manufacturers as of 10/1/2019:</strong></u><br />\nRyan O&#39\;Toole\, Briess Malt &amp\; Ingredients Co. &ndash\; Manitowoc<br />\nMark Crass/Greg Jones\, Kerry (Red Arrow Products)<br />\nGlen Tellock\, Lakeside Foods<br />\n...check back as this list grows!<br />\n<br />\nUpdates from local government officials will follow the manufacturing updates.&nbsp\;<br />\n<br />\nBusiness Connects with Government is the perfect opportunity to stay abreast of issues at the local\, state and federal levels of government. Both elected and government officials are invited to attend to provide Chamber members with an update from their respective areas of representation.<br />\n<br />\nBusiness Connects with Government Luncheons provide a venue to inform and educate our community by hosting speakers on topics important to our members. Opinions expressed by speakers do not necessarily reflect the position of The Chamber of Manitowoc County or its members.<br />\n&nbsp\;
LOCATION:Holiday Inn 4601 Calumet Ave. Manitowoc
UID:e.361.14793
SEQUENCE:3
DTSTAMP:20260425T143558Z
URL:https://business.chambermanitowoccounty.org/events/details/business-connects-with-government-luncheon-manufacturing-updates-14793
END:VEVENT

END:VCALENDAR
