BEGIN:VCALENDAR
VERSION:2.0
PRODID:-//ChamberMaster//Event Calendar 2.0//EN
METHOD:PUBLISH
X-PUBLISHED-TTL:P3D
REFRESH-INTERVAL:P3D
CALSCALE:GREGORIAN
BEGIN:VEVENT
DTSTART:20200113T180000Z
DTEND:20200113T190000Z
X-MICROSOFT-CDO-ALLDAYEVENT:FALSE
SUMMARY:Business Connects with Government Luncheon- Mental Health and the Workplace
DESCRIPTION:Mental Health and the Workplace\n\n\n\nProgram Agenda: \n\n	Report from Kristi Irving\, MA\, LPC\, CCTP\, Counselor\, Lakeshore Technical College on observations about what challenges mental health presents to the workforce and the challenges in addressing them from a provider perspective.\n	Report from Rep. Paul Tittl as to what the state is doing legislatively and policy-wise to help with the challenges in addressing mental health including more resources for treatment and access to health care.\n	General updates from any local officials in attendance\n\n	 \n\n \n\nBusiness Connects with Government is the perfect opportunity to stay abreast of issues at the local\, state and federal levels of government. Both elected and government officials are invited to attend to provide Chamber members with an update from their respective areas of representation.\n\n\n\nBusiness Connects with Government Luncheons provide a venue to inform and educate our community by hosting speakers on topics important to our members. Opinions expressed by speakers do not necessarily reflect the position of The Chamber of Manitowoc County or its members.
X-ALT-DESC;FMTTYPE=text/html:<span style="font-size:18px\;"><em><strong>Mental Health and the Workplace</strong></em></span><br />\n<br />\nProgram Agenda:<span style="font-size:14px\;"><span style="font-family:arial\;">&#8203\;</span></span>\n<ul>\n	<li>Report from Kristi Irving\, MA\, LPC\, CCTP\, Counselor\, Lakeshore Technical College on observations about what challenges mental health presents to the workforce and the challenges in addressing them from a provider perspective.</li>\n	<li>Report from Rep. Paul Tittl as to what the state is doing legislatively and policy-wise to help with the challenges in addressing mental health including more resources for treatment and access to health care.</li>\n	<li>General updates from any local officials in attendance<br />\n	&nbsp\;</li>\n</ul>\n<span style="font-size:14px\;"><span style="font-family:arial\;">&nbsp\;</span></span><br />\nBusiness Connects with Government is the perfect opportunity to stay abreast of issues at the local\, state and federal levels of government. Both elected and government officials are invited to attend to provide Chamber members with an update from their respective areas of representation.<br />\n<br />\nBusiness Connects with Government Luncheons provide a venue to inform and educate our community by hosting speakers on topics important to our members. Opinions expressed by speakers do not necessarily reflect the position of The Chamber of Manitowoc County or its members.<br />\n&nbsp\;
LOCATION:Manitowoc Public Library - Balkansky Community Room 707 Quay Street Manitowoc
UID:e.361.14897
SEQUENCE:3
DTSTAMP:20260425T105734Z
URL:https://business.chambermanitowoccounty.org/events/details/business-connects-with-government-luncheon-mental-health-and-the-workplace-14897
END:VEVENT

END:VCALENDAR
