BEGIN:VCALENDAR
VERSION:2.0
PRODID:-//ChamberMaster//Event Calendar 2.0//EN
METHOD:PUBLISH
X-PUBLISHED-TTL:P3D
REFRESH-INTERVAL:P3D
CALSCALE:GREGORIAN
BEGIN:VEVENT
DTSTART:20211108T180000Z
DTEND:20211108T190000Z
X-MICROSOFT-CDO-ALLDAYEVENT:FALSE
SUMMARY:Business Connects with Government - Manitowoc County Update
DESCRIPTION:Join us for an update from Manitowoc County Executive Bob Ziegelbauer.  County Executive Ziegelbauer will provide budget highlights as well as general updates as it pertains to governmental business in Manitowoc County. \n\n\n\nCounty Executive Ziegelbauer will be presenting in person at The Chamber office (up to 15 may attend in person) and his presentation will be broadcast virtually for those who wish to attend that way. \n\n\n\nBusiness Connects with Government is the perfect opportunity to stay abreast of issues at the local\, state and federal levels of government. Both elected and government officials are invited to attend to provide Chamber members with an update from their respective areas of representation.\n\n\n\nBusiness Connects with Government Luncheons provide a venue to inform and educate our community by hosting speakers on topics important to our members. Opinions expressed by speakers do not necessarily reflect the position of The Chamber of Manitowoc County or its members.
X-ALT-DESC;FMTTYPE=text/html:Join us for an update from Manitowoc County Executive Bob Ziegelbauer.&nbsp\; County Executive Ziegelbauer will provide budget highlights as well as general updates as it pertains to governmental business in Manitowoc County.&nbsp\;<br />\n<br />\nCounty Executive Ziegelbauer will be presenting in person at The Chamber office (up to 15 may attend in person) and his presentation will be broadcast virtually for those who wish to attend that way.&nbsp\;<br />\n<br />\nBusiness Connects with Government is the perfect opportunity to stay abreast of issues at the local\, state and federal levels of government. Both elected and government officials are invited to attend to provide Chamber members with an update from their respective areas of representation.<br />\n<br />\nBusiness Connects with Government Luncheons provide a venue to inform and educate our community by hosting speakers on topics important to our members. Opinions expressed by speakers do not necessarily reflect the position of The Chamber of Manitowoc County or its members.
LOCATION:Via Zoom (You will receive Zoom link in confirmation email.) Spots for up to 15 in Person are available.
UID:e.361.16994
SEQUENCE:3
DTSTAMP:20260422T195123Z
URL:https://business.chambermanitowoccounty.org/events/details/business-connects-with-government-manitowoc-county-update-16994
END:VEVENT

END:VCALENDAR
