BEGIN:VCALENDAR
VERSION:2.0
PRODID:-//ChamberMaster//Event Calendar 2.0//EN
METHOD:PUBLISH
X-PUBLISHED-TTL:P3D
REFRESH-INTERVAL:P3D
CALSCALE:GREGORIAN
BEGIN:VEVENT
DTSTART:20220829T170000Z
DTEND:20220829T180000Z
X-MICROSOFT-CDO-ALLDAYEVENT:FALSE
SUMMARY:Business Connects with Government - Manitowoc Public Utilities Update
DESCRIPTION:Manitowoc Public Utilities has taken steps to refuel their two primarily fossil-fuel-fired power plants to run exclusively on Wisconsin-recognized 100% renewable biomass densified fuel pellets. This project moves MPU toward a more environmentally sustainable future while improving their economics helping MPU maintain competitive rates.\n\n \n\nTroy Adams has been the MPU General Manager since June 2020. Previously\, Troy had served as the General Manager for a municipally owned utility just northwest of the Minneapolis area. And currently\, Troy services on the board of directors and is chair of the legislative and regulatory committee for their state trade association\, Municipal Electric Utilities of Wisconsin.\n\n\n\nBusiness Connects with Government events provide a venue to inform and educate our community by hosting speakers on topics important to our members. Opinions expressed by speakers do not necessarily reflect the position of The Chamber of Manitowoc County or its members.
X-ALT-DESC;FMTTYPE=text/html:Manitowoc Public Utilities has taken steps to refuel their two primarily fossil-fuel-fired power plants to run exclusively on Wisconsin-recognized 100% renewable biomass densified fuel pellets. This project moves MPU toward a more environmentally sustainable future while improving their economics helping MPU maintain competitive rates.<br />\n&nbsp\;<br />\nTroy Adams has been the MPU General Manager since June 2020. Previously\, Troy had served as the General Manager for a municipally owned utility just northwest of the Minneapolis area. And currently\, Troy services on the board of directors and is chair of the legislative and regulatory committee for their state trade association\, Municipal Electric Utilities of Wisconsin.<br />\n<br />\n<em>Business Connects with Government events provide a venue to inform and educate our community by hosting speakers on topics important to our members. Opinions expressed by speakers do not necessarily reflect the position of The Chamber of Manitowoc County or its members.</em>
LOCATION:Link to Webinar: https://us06web.zoom.us/j/89684662469
UID:e.361.18013
SEQUENCE:3
DTSTAMP:20260420T064954Z
URL:https://business.chambermanitowoccounty.org/events/details/business-connects-with-government-manitowoc-public-utilities-update-18013
END:VEVENT

END:VCALENDAR
