BEGIN:VCALENDAR
VERSION:2.0
PRODID:-//ChamberMaster//Event Calendar 2.0//EN
METHOD:PUBLISH
X-PUBLISHED-TTL:P3D
REFRESH-INTERVAL:P3D
CALSCALE:GREGORIAN
BEGIN:VEVENT
DTSTART:20211129T180000Z
DTEND:20211129T190000Z
X-MICROSOFT-CDO-ALLDAYEVENT:FALSE
SUMMARY:Business Connects with Government - Two Rivers Update
DESCRIPTION:Join us as Two Rivers City Manager provides an update on what is happening in the City of Two Rivers.\n\n\n\nBusiness Connects with Government is the perfect opportunity to stay abreast of issues at the local\, state and federal levels of government. Elected and government officials are invited to attend to provide Chamber members with an update from their respective areas of representation.\n\n\n\nBusiness Connects with Government Luncheons provide a venue to inform and educate our community by hosting speakers on topics important to our members. Opinions expressed by speakers do not necessarily reflect the position of The Chamber of Manitowoc County or its members.
X-ALT-DESC;FMTTYPE=text/html:<div>&nbsp\;</div>\n\n<div><span style="font-size:14px\;"><span style="font-family:arial\;"><span style="color: rgb(35\, 35\, 51)\; background-color: rgb(255\, 255\, 255)\;">Join us as Two Rivers City Manager provides an update on what is happening in the City of Two Rivers.</span><br style="box-sizing: border-box\; color: rgb(35\, 35\, 51)\; font-family: Lato\, Helvetica\, Arial\; font-size: 14px\; background-color: rgb(255\, 255\, 255)\;" />\n<br style="box-sizing: border-box\; color: rgb(35\, 35\, 51)\; font-family: Lato\, Helvetica\, Arial\; font-size: 14px\; background-color: rgb(255\, 255\, 255)\;" />\n<span style="color: rgb(35\, 35\, 51)\; background-color: rgb(255\, 255\, 255)\;">Business Connects with Government is the perfect opportunity to stay abreast of issues at the local\, state and federal levels of government. Elected and government officials are invited to attend to provide Chamber members with an update from their respective areas of representation.</span><br style="box-sizing: border-box\; color: rgb(35\, 35\, 51)\; font-family: Lato\, Helvetica\, Arial\; font-size: 14px\; background-color: rgb(255\, 255\, 255)\;" />\n<br style="box-sizing: border-box\; color: rgb(35\, 35\, 51)\; font-family: Lato\, Helvetica\, Arial\; font-size: 14px\; background-color: rgb(255\, 255\, 255)\;" />\n<span style="color: rgb(35\, 35\, 51)\; background-color: rgb(255\, 255\, 255)\;">Business Connects with Government Luncheons provide a venue to inform and educate our community by hosting speakers on topics important to our members. Opinions expressed by speakers do not necessarily reflect the position of The Chamber of Manitowoc County or its members.</span></span></span></div>\n
LOCATION:Via Zoom Link will be provided in registration confirmation email. You must register to receive link.
UID:e.361.17152
SEQUENCE:3
DTSTAMP:20260422T195055Z
URL:https://business.chambermanitowoccounty.org/events/details/business-connects-with-government-two-rivers-update-17152
END:VEVENT

END:VCALENDAR
